BEGIN:VCALENDAR
VERSION:2.0
CALSCALE:GREGORIAN
PRODID:adamgibbons/ics
METHOD:PUBLISH
X-PUBLISHED-TTL:PT1H
BEGIN:VEVENT
UID:21161@offbeat.amsterdam
SUMMARY:Telenova
DTSTAMP:20260424T193250Z
DTSTART:20261011T193000Z
DESCRIPTION:Alt pop trio from Melbourne
URL:https://offbeat.amsterdam/event/telenova
GEO:52.36215535;4.883782439016489
LOCATION:Paradiso - Weteringschans 6\, 1017 SG Amsterdam
STATUS:CONFIRMED
CATEGORIES:amsterdam-centrum,leidseplein
X-ALT-DESC;FMTTYPE=text/html:Alt pop trio from Melbourne
BEGIN:VALARM
ACTION:DISPLAY
DESCRIPTION:Telenova
TRIGGER:-PT1H
END:VALARM
END:VEVENT
END:VCALENDAR
