BEGIN:VCALENDAR
VERSION:2.0
CALSCALE:GREGORIAN
PRODID:adamgibbons/ics
METHOD:PUBLISH
X-PUBLISHED-TTL:PT1H
BEGIN:VEVENT
UID:21101@offbeat.amsterdam
SUMMARY:Steven Charlot
DTSTAMP:20260422T184307Z
DTSTART:20260701T173000Z
DESCRIPTION:Layered soul and R&B from an Amsterdam-based singer-songwriter 
	and producer\n\nSteven Charlot is an Amsterdam-based singer-songwriter and
	 producer who moves\nbetween alternative R&B\, indie soul and neo-soul. Wi
	th a minimalist approach and\na refined voice\, he creates music that feel
	s intimate and layered. His work\nconsists of small\, self-contained world
	s in which atmosphere\, colour and emotion\ntake centre stage. His lyrics 
	are rooted in everyday experiences and personal\nreflections\, with music 
	serving as a form of self-medication.\n\nWith airplay on NPO Radio 2 and a
	s an NPO Soul & Jazz tip\, Steven is developing\nas an artist who knows ho
	w to combine subtlety and intensity. Following his\ndebut EP ‘Society’s Fa
	ce pt. I’\, in which he captured a vulnerable period in his\nlife\, he ret
	urns with ‘Society’s Face pt. II’. This release marks a shift\ntowards a b
	righter perspective\, without losing the emotional depth that\ncharacteris
	es his work.
URL:https://offbeat.amsterdam/event/steven-charlot
GEO:52.36215535;4.883782439016489
LOCATION:Paradiso - Weteringschans 6\, 1017 SG Amsterdam
STATUS:CONFIRMED
CATEGORIES:alternative,amsterdam-centrum,indie,jazz,leidseplein,music,rnb,s
	oul
X-ALT-DESC;FMTTYPE=text/html:Layered soul and R&amp;B from an Amsterdam-bas
	ed singer-songwriter and producer<br><br><p>Steven Charlot is an Amsterdam
	-based singer-songwriter and producer who moves between alternative R&amp;
	B, indie soul and neo-soul. With a minimalist approach and a refined voice
	, he creates music that feels intimate and layered. His work consists of s
	mall, self-contained worlds in which atmosphere, colour and emotion take c
	entre stage. His lyrics are rooted in everyday experiences and personal re
	flections, with music serving as a form of self-medication.</p><p>With air
	play on NPO Radio 2 and as an NPO Soul &amp; Jazz tip, Steven is developin
	g as an artist who knows how to combine subtlety and intensity. Following 
	his debut EP ‘Society’s Face pt. I’, in which he captured a vulnerable per
	iod in his life, he returns with ‘Society’s Face pt. II’. This release mar
	ks a shift towards a brighter perspective, without losing the emotional de
	pth that characterises his work.</p>
BEGIN:VALARM
ACTION:DISPLAY
DESCRIPTION:Steven Charlot
TRIGGER:-PT1H
END:VALARM
END:VEVENT
END:VCALENDAR
