BEGIN:VCALENDAR
VERSION:2.0
CALSCALE:GREGORIAN
PRODID:adamgibbons/ics
METHOD:PUBLISH
X-PUBLISHED-TTL:PT1H
BEGIN:VEVENT
UID:21060@offbeat.amsterdam
SUMMARY:Stereolube
DTSTAMP:20260421T192123Z
DTSTART:20260501T210000Z
DTEND:20260502T050000Z
DESCRIPTION:MAYHEM on May first! After a quiet start to the year\, Stereolu
	be returns with a\nBANG on the first Friday of May to deliver signature mi
	schief on new grounds\,\ntaking over the labyrinthine space of TILLATEC fo
	r the first time with a\ntwo-room curation rooted in freeparty sounds\, pl
	us expansive side programming.\n\nWe’ll see you for a signature slick danc
	efloor experience on the first of the\nmonth!\n\nLineup:\nADHDJ (2) \nDJ :
	-)\nDJ Ultramars\nEdoardo Figara (live)\nGimmeamfbreakbeat \nMitsubitchy \
	nlis\nLNR (UK)
URL:https://offbeat.amsterdam/event/stereolube-2
GEO:52.3699549;4.843713
LOCATION:Tilla Tec - Doctor Jan van Breemenstraat 1\, 1056 AB Amsterdam
STATUS:CONFIRMED
CATEGORIES:amsterdam-west,dj,rembrandtpark
X-ALT-DESC;FMTTYPE=text/html:<p>MAYHEM on May first! After a quiet start to
	 the year, Stereolube returns with a BANG on the first Friday of May to de
	liver signature mischief on new grounds, taking over the labyrinthine spac
	e of TILLATEC for the first time with a two-room curation rooted in freepa
	rty sounds, plus expansive side programming.<br><br>We’ll see you for a si
	gnature slick dancefloor experience on the first of the month!</p><p><stro
	ng>Lineup:</strong><br>ADHDJ (2)&nbsp;<br>DJ :-)<br>DJ Ultramars<br>Edoard
	o Figara (live)<br>Gimmeamfbreakbeat&nbsp;<br>Mitsubitchy&nbsp;<br>lis<br>
	LNR (UK)</p>
BEGIN:VALARM
ACTION:DISPLAY
DESCRIPTION:Stereolube
TRIGGER:-PT1H
END:VALARM
END:VEVENT
END:VCALENDAR
