BEGIN:VCALENDAR
VERSION:2.0
CALSCALE:GREGORIAN
PRODID:adamgibbons/ics
METHOD:PUBLISH
X-PUBLISHED-TTL:PT1H
BEGIN:VEVENT
UID:21154@offbeat.amsterdam
SUMMARY:South Italian Night ♫ Live AcquAria ★ Farm-to-Table Food
DTSTAMP:20260424T194234Z
DTSTART:20260528T173000Z
DTEND:20260528T214500Z
DESCRIPTION:SOUTH ITALIAN NIGHT ★ LIVE ACQUARIA ★ THE BALANCED PLATE\nTHURS
	DAY 28.05.2026 @ MEZRAB\n\nAre you ready for another full night of Tarante
	lla\, Tamurriata & Pizzica music?\nSome golden era fun?\nFarm-to-Table Ita
	lian finger food & dance music..\n\n★\nLIVE band ACQUARIA\nAUTHENTIC finge
	r FOOD by THE BALANCED PLATE (Food price is not included!)\nDANCE Music\n\
	n★\nAcquAria\nTambourines\, guitars\, accordion\, violin and upright bass 
	& some red wine will\nmake you hop on your feet\, who’ll dance to this fes
	tive music from Southern\nItaly.\nThe repertoire of the band led by Vincen
	zo Castellana contains a bunch of\ntraditional fast dances (Tarantella\, T
	amurriata and Pizzica)\, moderate songs and\nlullabies.\nAcquAria is a ful
	l-immersive experience with authentic and even forgotten\nsounds.\n\nAnd h
	ave you ever danced as if a spider had bitten you? No? You have never\nexp
	erienced Tarantella yet!\n\nJoin us for this true musical hypnotic night\,
	 to celebrate life & togetherness\nin full swing.\n\nLine up:\n\nVincenzo 
	Acquaria – Vocals\, percussion\, guitar\, winds\n\nSimone Mens – Double ba
	ss\n\nJoris van Beek – Viool\, Mandoline\, Klassiek Kemenche\n\nFederico L
	anzo – Acoustic guitar\, voice\n\nJina Sumedi – Accordion\n\n★\nTHE BALANC
	ED PLATE\nAmsterdam’s only Farm-to-Table Italian Experience\, where every 
	dish tells a\nStory https://the-balanced-plate.com/ [https://the-balanced-
	plate.com/]\n\n★\nDoors open: 19:30\nThe Blanced Plate & Mezbar\nBuy yours
	elf a special curated plate of amazing fresh delights & dig in with\nsome 
	fun tunes\n\nLive music: 21:00\n\n★\nTickets music: 14.50 EUR\nLimited onl
	ine student tickets music*: 10 EUR\n\nTickets food: 10 EUR // buy your cur
	ated plate directly at The Balanced Plate\ntable.
URL:https://offbeat.amsterdam/event/south-italian-night-beamed-eighth-notes
	-live-acquaria-star-farm-to-table-food
GEO:52.3759775;4.9275458
LOCATION:Mezrab - Veemkade 576\, 1019 BL Amsterdam
STATUS:CONFIRMED
CATEGORIES:amsterdam-oost,dance,eastern docklands,food,live,music,stories
X-ALT-DESC;FMTTYPE=text/html:<h3>South Italian Night ★ Live AcquAria ★ The 
	Balanced Plate<br> Thursday 28.05.2026 @ Mezrab</h3> Are you ready for ano
	ther full night of Tarantella, Tamurriata &amp; Pizzica music?<br> Some go
	lden era fun?<br> Farm-to-Table Italian finger food &amp; dance music.. <p
	>★<br> LIVE band ACQUARIA<br> AUTHENTIC finger FOOD by THE BALANCED PLATE 
	(Food price is not included!)<br> DANCE Music</p> <p>★<br> <strong>AcquAri
	a</strong><br> Tambourines, guitars, accordion, violin and upright bass &a
	mp; some red wine will make you hop on your feet, who’ll dance to this fes
	tive music from Southern Italy.<br> The repertoire of the band led by Vinc
	enzo Castellana contains a bunch of traditional fast dances (Tarantella, T
	amurriata and Pizzica), moderate songs and lullabies.<br> AcquAria is a fu
	ll-immersive experience with authentic and even forgotten sounds.</p> And 
	have you ever danced as if a spider had bitten you? No? You have never exp
	erienced Tarantella yet!  <p>Join us for this true musical hypnotic night,
	 to celebrate life &amp; togetherness in full swing.</p> <p>Line up:</p> <
	p>Vincenzo Acquaria – Vocals, percussion, guitar, winds</p> <p>Simone Mens
	 – Double bass</p> <p>Joris van Beek – Viool, Mandoline, Klassiek Kemenche
	</p> <p>Federico Lanzo – Acoustic guitar, voice</p> <p>Jina Sumedi – Accor
	dion</p> <p>★<br> THE BALANCED PLATE<br> Amsterdam’s only Farm-to-Table It
	alian Experience, where every dish tells a Story<strong> <a target="_blank
	" href="https://the-balanced-plate.com/">https://the-balanced-plate.com/</
	a></strong></p> <p>★<br> <strong>Doors open: 19:30 </strong><br> The Blanc
	ed Plate &amp; Mezbar<br> Buy yourself a special curated plate of amazing 
	fresh delights &amp; dig in with some fun tunes</p> <p><strong>Live music:
	 21:00</strong></p> <p><strong>★</strong><br> Tickets music: 14.50 EUR<br>
	 Limited online student tickets music*: 10 EUR</p> <p>Tickets food: 10 EUR
	 // buy your curated plate directly at The Balanced Plate table.</p>
BEGIN:VALARM
ACTION:DISPLAY
DESCRIPTION:South Italian Night ♫ Live AcquAria ★ Farm-to-Table Food
TRIGGER:-PT1H
END:VALARM
END:VEVENT
END:VCALENDAR
