BEGIN:VCALENDAR
VERSION:2.0
CALSCALE:GREGORIAN
PRODID:adamgibbons/ics
METHOD:PUBLISH
X-PUBLISHED-TTL:PT1H
BEGIN:VEVENT
UID:21025@offbeat.amsterdam
SUMMARY:Sonic Hunt | OCTOPUS\, SNEURF & LIMERENT
DTSTAMP:20260420T231819Z
DTSTART:20260423T180000Z
DESCRIPTION:Support: OCTOPUS\, SNEURF & LIMERENT\n\n\n\nSONIC HUNT is the u
	ltimate showcase for the best and most exciting talent in the\nalternative
	 music scene. We put emerging artists in the spotlight and transform\nP60 
	into the ultimate place to discover and experience your next favorite act.
	\n\nWhether you're into post-punk\, shoegaze\, or related genres\, each ed
	ition\nfeatures the most impressive acts from these genres. And even if yo
	u're new to\nthis music\, you're guaranteed to go home with a long list of
	 new favorites!\n\nSneurf\n\nDe Sneurf bandleden sprongen 80 jaar geleden 
	uit een brandend oorlogsvliegtuig.\nMet een noodvaart raasden ze naar bene
	den en ze belandden in een onbekend\nweiland. Door de enorme klap raakten 
	de heren in een coma. Nu\, 80 jaar later\,\nzijn zij wakker geworden. De e
	norme impact heeft ervoor gezorgd dat de Sneurfers\nwakker zijn geworden m
	et de P.A.R.A stoornis. Hierdoor zijn ze compleet gestoord\ngeworden. In e
	en waas van woede en energie stormen ze het land door\, op zoek\nnaar meer
	 gekken die hun energie kunnen overnemen. Met hun knallende optredens\nver
	oorzaken de bandleden nu chaos en ravage door alle grote steden. Kan jij d
	eze\ndolle muzikanten stoppen\, of moet je wel meegaan in de energie?\n\nO
	ctopus\n\nOctopus is een waanzinnige vierkoppige psychedelische garagerock
	band uit de\nNederlandse underground. Hun liveoptredens zijn een hysterisc
	he ervaring\, een\nmix van psychedelische muziek uit de jaren 60\, new wav
	e en punk tot een\nbriljante chaos. Met nummers over verslavingen\, obsess
	ies en SM\, kwelt Octopus\ntegen middelmatigheid – ze troosten de gekwelde
	n en verontrusten de\ncomfortabelen.\n\nLimerent\n\nLimerent schreeuwt in 
	je gezicht en fluistert in je oor. De Utrechtse band maakt\neen mengeling 
	van alt-rock en post-punk die op een oorverdovende manier met je\nverwacht
	ingen speelt. Melodische baslijntjes en grungy akkoorden worden\nonderbrok
	en door agressieve riffs en vocals die tussen punk en poëzie in liggen.\nL
	imerent schrijft over hun persoonlijke frustraties\, maar ook over hun\nfr
	ustraties met de maatschappij\, zoals in hun bijdrage aan de compilatiepla
	at\nGirls to the Front. Hun set is meeslepend\, onvoorspelbaar\, en vooral
	 heel\nenergiek.
URL:https://offbeat.amsterdam/event/sonic-hunt-or-octopus-sneurf-and-limere
	nt
GEO:52.3026981;4.8587559
LOCATION:P60 - 100-a\, Stadsplein\, Stadshart\, Amstelveen\, Noord-Holland\
	, Nederland\, 1181 ZM\, Nederland
STATUS:CONFIRMED
CATEGORIES:alternative,amstelveen,grunge,music,post-punk
X-ALT-DESC;FMTTYPE=text/html:<p><strong>Support: OCTOPUS, SNEURF &amp; LIME
	RENT</strong></p><p></p><p>SONIC HUNT is the ultimate showcase for the bes
	t and most exciting talent in the alternative music scene. We put emerging
	 artists in the spotlight and transform P60 into the ultimate place to dis
	cover and experience your next favorite act.</p><p>Whether you're into pos
	t-punk, shoegaze, or related genres, each edition features the most impres
	sive acts from these genres. And even if you're new to this music, you're 
	guaranteed to go home with a long list of new favorites!<br><br><strong>Sn
	eurf</strong></p><p>De Sneurf bandleden sprongen 80 jaar geleden uit een b
	randend oorlogsvliegtuig. Met een noodvaart raasden ze naar beneden en ze 
	belandden in een onbekend weiland. Door de enorme klap raakten de heren in
	 een coma. Nu, 80 jaar later, zijn zij wakker geworden. De enorme impact h
	eeft ervoor gezorgd dat de Sneurfers wakker zijn geworden met de P.A.R.A s
	toornis. Hierdoor zijn ze compleet gestoord geworden. In een waas van woed
	e en energie stormen ze het land door, op zoek naar meer gekken die hun en
	ergie kunnen overnemen. Met hun knallende optredens veroorzaken de bandled
	en nu chaos en ravage door alle grote steden. Kan jij deze dolle muzikante
	n stoppen, of moet je wel meegaan in de energie?<br><br><strong>Octopus</s
	trong></p><p>Octopus is een waanzinnige vierkoppige psychedelische garager
	ockband uit de Nederlandse underground. Hun liveoptredens zijn een hysteri
	sche ervaring, een mix van psychedelische muziek uit de jaren 60, new wave
	 en punk tot een briljante chaos. Met nummers over verslavingen, obsessies
	 en SM, kwelt Octopus tegen middelmatigheid – ze troosten de gekwelden en 
	verontrusten de comfortabelen.<br><br><strong>Limerent</strong></p><p>Lime
	rent schreeuwt in je gezicht en fluistert in je oor. De Utrechtse band maa
	kt een mengeling van alt-rock en post-punk die op een oorverdovende manier
	 met je verwachtingen speelt. Melodische baslijntjes en grungy akkoorden w
	orden onderbroken door agressieve riffs en vocals die tussen punk en poëzi
	e in liggen. Limerent schrijft over hun persoonlijke frustraties, maar ook
	 over hun frustraties met de maatschappij, zoals in hun bijdrage aan de co
	mpilatieplaat <em>Girls to the Front</em>. Hun set is meeslepend, onvoorsp
	elbaar, en vooral heel energiek.</p>
BEGIN:VALARM
ACTION:DISPLAY
DESCRIPTION:Sonic Hunt | OCTOPUS, SNEURF & LIMERENT
TRIGGER:-PT1H
END:VALARM
END:VEVENT
END:VCALENDAR
