BEGIN:VCALENDAR
VERSION:2.0
CALSCALE:GREGORIAN
PRODID:adamgibbons/ics
METHOD:PUBLISH
X-PUBLISHED-TTL:PT1H
BEGIN:VEVENT
UID:21110@offbeat.amsterdam
SUMMARY:Songs from Bwatun\, traditional music from Mali + vegetarian food
DTSTAMP:20260422T231752Z
DTSTART:20260429T170000Z
DESCRIPTION:Songs from Bwatun :\n\nVocals and percussion: Salome Dembele (M
	ali) \nBalafon: Jens Peter Møller (Denmark)\n\nBwatun\, the land of the Bw
	a\, is a vast network of villages located in the border\nregions between I
	vory Coast\, Burkina Faso and Mali. Among the Bwa\, since the\nolding days
	\, music and stories have been passed down through the ages by\nsucceeding
	 generations of musician-families known as Djeli (griots\, in french)\nmak
	ing a living by playing music and serving the culture as a kind of\ntrans-
	generational memory-vessels for popular tunes dating back a thousand\nyear
	s. \n\nRaised as a Djeli\, music was the main income in the family\, and S
	alome Dembele\nhas been singing professionally since childhood. Through ha
	rd work\, Salome\nclimbed the steep ladder of the music industry in Mali\,
	 released several albums\nof original music and reached a high level of su
	ccess before relocating to\nAmsterdam. \nAs a healthy contrast to his form
	al education in western classical composition\,\nJens Peter Møller has bee
	n on a decade-long quest in pursuit of experience and\nwisdom\, immersing 
	himself deep into the practice of west african music from\nGhana\, Senegal
	 and Mali.\n\nDinner at 19:00\, food on donation\, from 5€ to 10€. From 20
	:00\, concert.\n\nSince June 2005\, Joe's Garage is an autonomous squatted
	 political social center\,\na meeting place in the Transvaal neighborhood 
	for squatters and non-squatters\,\nsubsidy free\, not for profit\, self-or
	ganized and entirely run by volunteers.\nhttps://squ.at/joe [https://squ.a
	t/joe]\nhttps://joe.squat.net [https://joe.squat.net]
URL:https://offbeat.amsterdam/event/songs-from-bwatun-traditional-music-fro
	m-mali-vegetarian-food
GEO:52.35556625;4.9249982
LOCATION:Joe's Garage - Pretoriusstraat 43\, 1092 EZ Amsterdam
STATUS:CONFIRMED
CATEGORIES:amsterdam-oost,concert,dinner,food,music,music/concert,stories,t
	ransvaalbuurt
X-ALT-DESC;FMTTYPE=text/html:<p>Songs from Bwatun :</p><br><p>Vocals and pe
	rcussion: Salome Dembele (Mali)&nbsp;<br>Balafon: Jens Peter Møller (Denma
	rk)</p><br><p>Bwatun, the land of the Bwa, is a vast network of villages l
	ocated in the border regions between Ivory Coast, Burkina Faso and Mali. A
	mong the Bwa, since the olding days, music and stories have been passed do
	wn through the ages by succeeding generations of musician-families known a
	s Djeli (griots, in french) making a living by playing music and serving t
	he culture as a kind of trans-generational memory-vessels for popular tune
	s dating back a thousand years.&nbsp;</p><br><p>Raised as a Djeli, music w
	as the main income in the family, and Salome Dembele has been singing prof
	essionally since childhood. Through hard work, Salome climbed the steep la
	dder of the music industry in Mali, released several albums of original mu
	sic and reached a high level of success before relocating to Amsterdam.&nb
	sp;<br>As a healthy contrast to his formal education in western classical 
	composition, Jens Peter Møller has been on a decade-long quest in pursuit 
	of experience and wisdom, immersing himself deep into the practice of west
	 african music from Ghana, Senegal and Mali.</p><br><p>Dinner at 19:00, fo
	od on donation, from 5€ to 10€. From 20:00, concert.</p><br><p><em>Since J
	une 2005, Joe's Garage is an autonomous squatted political social center, 
	a meeting place in the Transvaal neighborhood for squatters and non-squatt
	ers, subsidy free, not for profit, self-organized and entirely run by volu
	nteers.<br><a href="https://squ.at/joe">https://squ.at/joe</a><br><a href=
	"https://joe.squat.net">https://joe.squat.net</a></em></p>
BEGIN:VALARM
ACTION:DISPLAY
DESCRIPTION:Songs from Bwatun, traditional music from Mali + vegetarian foo
	d
TRIGGER:-PT1H
END:VALARM
END:VEVENT
END:VCALENDAR
