BEGIN:VCALENDAR
VERSION:2.0
CALSCALE:GREGORIAN
PRODID:adamgibbons/ics
METHOD:PUBLISH
X-PUBLISHED-TTL:PT1H
BEGIN:VEVENT
UID:20970@offbeat.amsterdam
SUMMARY:Smut Slam
DTSTAMP:20260420T180524Z
DTSTART:20260531T180000Z
DESCRIPTION:Doors: 18.30\, start 20.00. Sliding scale between 10\,- and 17\
	,-\n\nSMUT SLAM IS BACK! Get ready for the juiciest storytelling open mic 
	in\ntown—where real life\, real thrills\, and real naughty adventures take
	 center\nstage.\n\nWe want to hear your tales of taboo trysts\, wild passi
	ons\, and the kind of\nmischief that leaves a mark. Share your story\, and
	 you might just walk away with\none of our fabulous prizes! Don’t miss thi
	s night of cheeky confessions\,\ndelicious escapades\, and unforgettable f
	un.\n\n* PLEASE SEE OUR COVID PROTOCOLS FAQ\n\nSmut Slam features real-lif
	e\, first-person sex stories\, special prizes\, amazing\nguest judges\, an
	d also THE FUCKBUCKET\, a convenient receptacle for all your\nanonymous qu
	estions and confessions!\n\n** PRIZES PROVIDED BY various sponsors\n\nIMPO
	RTANT: Smut Slam is queer-friendly\, kink- AND vanilla-friendly\,\nfat-fri
	endly\, sex worker-friendly\, virgin-friendly\, polyamory-friendly\, we’re
	\nreally\, really friendly. We welcome people with all types and amounts o
	f sexual\nexperiences. We DO NOT welcome stories involving racism\, sexism
	\, homophobia\,\ntransphobia or any other kind of discrimination. All acti
	vities depicted must be\nCONSENSUAL!\n\nEVENT LANGUAGE: English\n\nRead ab
	out the Smut Slam worldwide network here [https://smutslam.com]\n\nPLEASE 
	NOTE: We have a strong Code of Conduct for everyone at a slam. We try\nver
	y hard to run the event accordingly\, and we want attendees to actually pa
	y\nattention so you can help us create this safer space. So check out our 
	code of\nconduct here\n[https://docs.google.com/document/d/120FTNtC47HhNIE
	P91TXpUT21mwsDCryMsRhAj74nJjs/edit?tab=t.0]!
URL:https://offbeat.amsterdam/event/smut-slam-3
GEO:52.374158;4.8726931
LOCATION:De Nieuwe Anita - Frederik Hendrikstraat 111\, 1052 HN Amsterdam
STATUS:CONFIRMED
CATEGORIES:amsterdam-west,open mic,queer,slam,stories,westerpark
X-ALT-DESC;FMTTYPE=text/html:<strong>Doors: 18.30, start 20.00. Sliding sca
	le between 10,- and 17,-</strong>  <p>SMUT SLAM IS BACK! Get ready for the
	 juiciest storytelling open mic in town—where real life, real thrills, and
	 real <em>naughty adventures</em> take center stage.</p>   <p>We want to h
	ear your tales of taboo trysts, wild passions, and the kind of mischief th
	at leaves a mark. Share your story, and you might just walk away with one 
	of our fabulous prizes! Don’t miss this night of cheeky confessions, delic
	ious escapades, and unforgettable fun.</p>   <p>* PLEASE SEE OUR COVID PRO
	TOCOLS FAQ</p>   <p>Smut Slam features real-life, first-person sex stories
	, special prizes, amazing guest judges, and also THE FUCKBUCKET, a conveni
	ent receptacle for all your anonymous questions and confessions!</p>   <p>
	** PRIZES PROVIDED BY various sponsors</p>   <p>IMPORTANT: Smut Slam is qu
	eer-friendly, kink- AND vanilla-friendly, fat-friendly, sex worker-friendl
	y, virgin-friendly, polyamory-friendly, we’re really, really friendly. We 
	welcome people with all types and amounts of sexual experiences. We DO NOT
	 welcome stories involving racism, sexism, homophobia, transphobia or any 
	other kind of discrimination. All activities depicted must be CONSENSUAL!<
	/p>   <p>EVENT LANGUAGE: English</p>   <p>Read about the Smut Slam worldwi
	de network <a target="_blank" href="https://smutslam.com">here</a></p>   <
	p>PLEASE NOTE: We have a strong Code of Conduct for everyone at a slam. We
	 try very hard to run the event accordingly, and we want attendees to actu
	ally pay attention so you can help us create this safer space. So check ou
	t our code of conduct <a target="_blank" href="https://docs.google.com/doc
	ument/d/120FTNtC47HhNIEP91TXpUT21mwsDCryMsRhAj74nJjs/edit?tab=t.0">here</a
	>!</p>
BEGIN:VALARM
ACTION:DISPLAY
DESCRIPTION:Smut Slam
TRIGGER:-PT1H
END:VALARM
END:VEVENT
END:VCALENDAR
