BEGIN:VCALENDAR
VERSION:2.0
CALSCALE:GREGORIAN
PRODID:adamgibbons/ics
METHOD:PUBLISH
X-PUBLISHED-TTL:PT1H
BEGIN:VEVENT
UID:21131@offbeat.amsterdam
SUMMARY:SLIFT
DTSTAMP:20260423T190055Z
DTSTART:20261123T193000Z
DESCRIPTION:French trio with a hypnotic blend of krautrock and psychedelia\
	n\nThe French trio SLIFT\, comprising brothers Jean and Rémi Fossat and dr
	ummer\nCanek Flores\, are known for their expansive and cosmic sound\, in 
	which\npsychedelia\, krautrock and heavy riffs merge into long\, meanderin
	g compositions.\nOn earlier albums such as ‘UMMON’ and ‘ILION’\, the band 
	was guided by a sense of\n‘fantasia’: free forms and genres that offered s
	cope for improvisation\, as if\nthe music were being sent out into the cos
	mos whilst being played.\n\nIronically\, with their latest album ‘Fantasia
	’\, the band takes a different path.\nThis is their most direct and focuse
	d work to date\, a tighter whole in which not\na moment is wasted. The rec
	ord unfolds as a sharp and compelling story about a\nworld in turmoil\, ca
	rried by a band that is audibly on edge. At the same time\,\nit is a story
	 of resilience and the rediscovery of autonomy\, even when it lies\ndeeply
	 hidden.
URL:https://offbeat.amsterdam/event/slift
GEO:52.36215535;4.883782439016489
LOCATION:Paradiso - Weteringschans 6\, 1017 SG Amsterdam
STATUS:CONFIRMED
CATEGORIES:amsterdam-centrum,improv,leidseplein,music,stories
X-ALT-DESC;FMTTYPE=text/html:French trio with a hypnotic blend of krautrock
	 and psychedelia<br><br><p>The French trio SLIFT, comprising brothers Jean
	 and Rémi Fossat and drummer Canek Flores, are known for their expansive a
	nd cosmic sound, in which psychedelia, krautrock and heavy riffs merge int
	o long, meandering compositions. On earlier albums such as ‘UMMON’ and ‘IL
	ION’, the band was guided by a sense of ‘fantasia’: free forms and genres 
	that offered scope for improvisation, as if the music were being sent out 
	into the cosmos whilst being played.</p><p>Ironically, with their latest a
	lbum ‘Fantasia’, the band takes a different path. This is their most direc
	t and focused work to date, a tighter whole in which not a moment is waste
	d. The record unfolds as a sharp and compelling story about a world in tur
	moil, carried by a band that is audibly on edge. At the same time, it is a
	 story of resilience and the rediscovery of autonomy, even when it lies de
	eply hidden.</p>
BEGIN:VALARM
ACTION:DISPLAY
DESCRIPTION:SLIFT
TRIGGER:-PT1H
END:VALARM
END:VEVENT
END:VCALENDAR
