BEGIN:VCALENDAR
VERSION:2.0
CALSCALE:GREGORIAN
PRODID:adamgibbons/ics
METHOD:PUBLISH
X-PUBLISHED-TTL:PT1H
BEGIN:VEVENT
UID:21153@offbeat.amsterdam
SUMMARY:skankin' sweet w/ empress messenjah\, ike melchizedek & nathifa efi
	a
DTSTAMP:20260424T194235Z
DTSTART:20260503T160000Z
DESCRIPTION:Skankin’ Sweet is a family concept created by Empress Donnalee 
	and her four\nchildren.\nLove\, good food and music have always been at th
	e center of our lives. Growing\nup in a household where reggae music playe
	d from early morning and ital food was\ncooked with love\, each of us deve
	loped our own individual talents. At some point\nwe felt it was time to br
	ing those gifts together and share them with the world.\nSkankin’ Sweet is
	 about coming together for that sweet meditation through music\,\nfood and
	 fashion.\nA place where people gather to laugh\, cry\, dance and sweat to
	gether. A space\nwhere you can live fully in the moment\, enjoy nourishing
	 vegan food and let\nyourself go completely.\nThrough the power of reggae 
	music we create space to heal\, reflect and grow into\nthe best version of
	 ourselves. A place where achievements\, big or small\, can be\ncelebrated
	 together.\nWelcome to our world - where we will be Skankin’ Sweet.\n
URL:https://offbeat.amsterdam/event/skankin-sweet-with-empress-messenjah-ik
	e-melchizedek-and-nathifa-efia
GEO:52.3854298;4.9279805
LOCATION:murmur - Aambeeldstraat 60\, 1021 KB Amsterdam
STATUS:CONFIRMED
CATEGORIES:amsterdam-noord,dance,food,hamerkwartier,live,meditation,music,r
	eggae,vegan
X-ALT-DESC;FMTTYPE=text/html:<p>Skankin’ Sweet is a family concept created 
	by Empress Donnalee and her four children.<br> Love, good food and music h
	ave always been at the center of our lives. Growing up in a household wher
	e reggae music played from early morning and ital food was cooked with lov
	e, each of us developed our own individual talents. At some point we felt 
	it was time to bring those gifts together and share them with the world.<b
	r> Skankin’ Sweet is about coming together for that sweet meditation throu
	gh music, food and fashion.<br> A place where people gather to laugh, cry,
	 dance and sweat together. A space where you can live fully in the moment,
	 enjoy nourishing vegan food and let yourself go completely.<br> Through t
	he power of reggae music we create space to heal, reflect and grow into th
	e best version of ourselves. A place where achievements, big or small, can
	 be celebrated together.<br> Welcome to our world - where we will be Skank
	in’ Sweet.<br></p>
BEGIN:VALARM
ACTION:DISPLAY
DESCRIPTION:skankin' sweet w/ empress messenjah, ike melchizedek & nathifa 
	efia
TRIGGER:-PT1H
END:VALARM
END:VEVENT
END:VCALENDAR
