BEGIN:VCALENDAR
VERSION:2.0
CALSCALE:GREGORIAN
PRODID:adamgibbons/ics
METHOD:PUBLISH
X-PUBLISHED-TTL:PT1H
BEGIN:VEVENT
UID:21001@offbeat.amsterdam
SUMMARY:Sissi's Friday w/ Bibtiana b2b Fendi b2b Celine Dyon
DTSTAMP:20260420T193244Z
DTSTART:20260522T210000Z
DTEND:20260523T020000Z
DESCRIPTION:Line up:\n\nBibtiana b2b Fendi b2b Celine Dyon\n
URL:https://offbeat.amsterdam/event/sissis-friday-with-bibtiana-b2b-fendi-b
	2b-celine-dyon
GEO:52.3448289;4.8425825
LOCATION:Sissi's - Anthony Fokkerweg 3\, 1059 CM Amsterdam
STATUS:CONFIRMED
CATEGORIES:oud-zuid,schinkelterrein
X-ALT-DESC;FMTTYPE=text/html:<p>Line up:</p><p>Bibtiana b2b Fendi b2b Celin
	e Dyon</p><br>
BEGIN:VALARM
ACTION:DISPLAY
DESCRIPTION:Sissi's Friday w/ Bibtiana b2b Fendi b2b Celine Dyon
TRIGGER:-PT1H
END:VALARM
END:VEVENT
END:VCALENDAR
