BEGIN:VCALENDAR
VERSION:2.0
CALSCALE:GREGORIAN
PRODID:adamgibbons/ics
METHOD:PUBLISH
X-PUBLISHED-TTL:PT1H
BEGIN:VEVENT
UID:21118@offbeat.amsterdam
SUMMARY:Shaking Hand
DTSTAMP:20260423T184700Z
DTSTART:20261126T190000Z
DESCRIPTION:Shaking Hand is een trio uit Manchester dat lange\, langzaam op
	bouwende post-rock\nmaakt in meerdere stemmingen en maatsoorten. Ze halen 
	inspiratie uit\nmodernistische architectuur\, Amerikaanse alternatieve muz
	iek uit de jaren 90 en\nmidwestern emo. Het muzikale DNA van de band loopt
	 via experimentele gitaaracts\nals Women\, Slint\, Sonic Youth\, Pavement 
	en Ulrika Spacek\, in balans gebracht met\nhet melodische gevoel van Big T
	hief en de dynamische intimiteit van Yo La Tengo.\n\n‍\n\nINSTAGRAM [https:/
	/www.instagram.com/shaking__hand/]
URL:https://offbeat.amsterdam/event/shaking-hand
GEO:52.3528265;4.906568
LOCATION:Cinetol - Tolstraat 182\, 1074 VM Amsterdam
STATUS:CONFIRMED
CATEGORIES:amsterdam-zuid,de pijp,emo,music,rock
X-ALT-DESC;FMTTYPE=text/html:<p>Shaking Hand is een trio uit Manchester dat
	 lange, langzaam opbouwende post-rock maakt in meerdere stemmingen en maat
	soorten. Ze halen inspiratie uit modernistische architectuur, Amerikaanse 
	alternatieve muziek uit de jaren 90 en midwestern emo. Het muzikale DNA va
	n de band loopt via experimentele gitaaracts als Women, Slint, Sonic Youth
	, Pavement en Ulrika Spacek, in balans gebracht met het melodische gevoel 
	van Big Thief en de dynamische intimiteit van Yo La Tengo.</p><p>‍</p><p><a 
	href="https://www.instagram.com/shaking__hand/">INSTAGRAM</a></p>
BEGIN:VALARM
ACTION:DISPLAY
DESCRIPTION:Shaking Hand
TRIGGER:-PT1H
END:VALARM
END:VEVENT
END:VCALENDAR
