BEGIN:VCALENDAR
VERSION:2.0
CALSCALE:GREGORIAN
PRODID:adamgibbons/ics
METHOD:PUBLISH
X-PUBLISHED-TTL:PT1H
BEGIN:VEVENT
UID:21214@offbeat.amsterdam
SUMMARY:Sex-Positive Party // Pre-King's Day Celebration
DTSTAMP:20260425T181108Z
DTSTART:20260425T200000Z
DTEND:20260426T030000Z
DESCRIPTION:This is not your typical King's Day party! While Amsterdam goes
	 wild outside\, we\ninvite you inside — into a curated\, unapologetically 
	s+ positive space for\nopen-minded\, curious and active people!\n\nCome ea
	rly — gifts are limited & first come\, first served:\nFirst 30 — Nipple St
	ickers\nNext 20 — Scratch Card with a Prize\nNext 50 — Little Kinky Welcom
	e Gift\nSmall surprises. Big smiles\n\nKinky / fetish / s*xy required\nNo 
	streetwear.\nOrange details will hit extra hard and look brutal in the spa
	ce — totally\nwelcome\, but not mandatory!\n\nFor this special night\, we 
	transform the venue into a high-energy\, kinky\nplayground built for movem
	ent\, tension and interaction:\nPlayful dating & connection games to break
	 the ice fast\nExtended play areas with new furniture\, textures & atmosph
	eric lighting\nGroovy house & techno by local Amsterdam DJs\nImmersive sce
	nography\, moving lights & visual layers\nAwareness Team on site — holding
	 the space safe\, respectful and s*xy!\n\nJoin the celebration! Early bird
	 tickets available now.\n\nLineup:\nTBA soon. Local artists
URL:https://offbeat.amsterdam/event/sex-positive-party-pre-kings-day-celebr
	ation
GEO:52.3371354;4.9251157
LOCATION:Levenslang - H.J.E. Wenckebachweg 48\, 1096 AN Amsterdam
STATUS:CONFIRMED
CATEGORIES:amsterdam-oost,games,overamstel,party,techno
X-ALT-DESC;FMTTYPE=text/html:<p>This is not your typical King's Day party! 
	While Amsterdam goes wild outside, we invite you inside — into a curated, 
	unapologetically s+ positive space for open-minded, curious and active peo
	ple! <br><br>Come early — gifts are limited &amp; first come, first served
	:<br>First 30 — Nipple Stickers<br>Next 20 — Scratch Card with a Prize<br>
	Next 50 — Little Kinky Welcome Gift<br>Small surprises. Big smiles<br><br>
	Kinky / fetish / s*xy required<br>No streetwear.<br>Orange details will hi
	t extra hard and look brutal in the space — totally welcome, but not manda
	tory!<br><br>For this special night, we transform the venue into a high-en
	ergy, kinky playground built for movement, tension and interaction:<br>Pla
	yful dating &amp; connection games to break the ice fast<br>Extended play 
	areas with new furniture, textures &amp; atmospheric lighting<br>Groovy ho
	use &amp; techno by local Amsterdam DJs<br>Immersive scenography, moving l
	ights &amp; visual layers<br>Awareness Team on site — holding the space sa
	fe, respectful and s*xy!<br><br>Join the celebration! Early bird tickets a
	vailable now.</p><p><strong>Lineup:</strong><br>TBA soon. Local artists</p
	>
BEGIN:VALARM
ACTION:DISPLAY
DESCRIPTION:Sex-Positive Party // Pre-King's Day Celebration
TRIGGER:-PT1H
END:VALARM
END:VEVENT
END:VCALENDAR
