BEGIN:VCALENDAR
VERSION:2.0
CALSCALE:GREGORIAN
PRODID:adamgibbons/ics
METHOD:PUBLISH
X-PUBLISHED-TTL:PT1H
BEGIN:VEVENT
UID:21000@offbeat.amsterdam
SUMMARY:Seven Eleven: Sjamsoedin
DTSTAMP:20260420T191933Z
DTSTART:20260501T170000Z
DTEND:20260501T210000Z
DESCRIPTION:21+
URL:https://offbeat.amsterdam/event/seven-eleven-sjamsoedin
GEO:52.3860704;4.8740538
LOCATION:Radio Radio - Pazzanistraat 3\, 1014 DB Amsterdam
STATUS:CONFIRMED
CATEGORIES:amsterdam-west,westerpark
X-ALT-DESC;FMTTYPE=text/html:21+
BEGIN:VALARM
ACTION:DISPLAY
DESCRIPTION:Seven Eleven: Sjamsoedin
TRIGGER:-PT1H
END:VALARM
END:VEVENT
END:VCALENDAR
