BEGIN:VCALENDAR
VERSION:2.0
CALSCALE:GREGORIAN
PRODID:adamgibbons/ics
METHOD:PUBLISH
X-PUBLISHED-TTL:PT1H
BEGIN:VEVENT
UID:21224@offbeat.amsterdam
SUMMARY:Seven Eleven: Rob Turner b2b Essets
DTSTAMP:20260425T180145Z
DTSTART:20260508T170000Z
DTEND:20260508T210000Z
DESCRIPTION:21+
URL:https://offbeat.amsterdam/event/seven-eleven-rob-turner-b2b-essets
GEO:52.3860704;4.8740538
LOCATION:Radio Radio - Pazzanistraat 3\, 1014 DB Amsterdam
STATUS:CONFIRMED
CATEGORIES:amsterdam-west,westerpark
X-ALT-DESC;FMTTYPE=text/html:21+
BEGIN:VALARM
ACTION:DISPLAY
DESCRIPTION:Seven Eleven: Rob Turner b2b Essets
TRIGGER:-PT1H
END:VALARM
END:VEVENT
END:VCALENDAR
