BEGIN:VCALENDAR
VERSION:2.0
CALSCALE:GREGORIAN
PRODID:adamgibbons/ics
METHOD:PUBLISH
X-PUBLISHED-TTL:PT1H
BEGIN:VEVENT
UID:21223@offbeat.amsterdam
SUMMARY:Seven Eleven: DJ Backstage b2b DJ OSX
DTSTAMP:20260425T180426Z
DTSTART:20260522T170000Z
DTEND:20260522T210000Z
DESCRIPTION:21+
URL:https://offbeat.amsterdam/event/seven-eleven-dj-backstage-b2b-dj-osx
GEO:52.3860704;4.8740538
LOCATION:Radio Radio - Pazzanistraat 3\, 1014 DB Amsterdam
STATUS:CONFIRMED
CATEGORIES:amsterdam-west,dj,westerpark
X-ALT-DESC;FMTTYPE=text/html:21+
BEGIN:VALARM
ACTION:DISPLAY
DESCRIPTION:Seven Eleven: DJ Backstage b2b DJ OSX
TRIGGER:-PT1H
END:VALARM
END:VEVENT
END:VCALENDAR
