BEGIN:VCALENDAR
VERSION:2.0
CALSCALE:GREGORIAN
PRODID:adamgibbons/ics
METHOD:PUBLISH
X-PUBLISHED-TTL:PT1H
BEGIN:VEVENT
UID:20998@offbeat.amsterdam
SUMMARY:Seven Eleven: Diggy Doug & Morris
DTSTAMP:20260420T192938Z
DTSTART:20260425T170000Z
DTEND:20260425T210000Z
DESCRIPTION:21+
URL:https://offbeat.amsterdam/event/seven-eleven-diggy-doug-and-morris
GEO:52.3860704;4.8740538
LOCATION:Radio Radio - Pazzanistraat 3\, 1014 DB Amsterdam
STATUS:CONFIRMED
CATEGORIES:amsterdam-west,westerpark
X-ALT-DESC;FMTTYPE=text/html:21+
BEGIN:VALARM
ACTION:DISPLAY
DESCRIPTION:Seven Eleven: Diggy Doug & Morris
TRIGGER:-PT1H
END:VALARM
END:VEVENT
END:VCALENDAR
