BEGIN:VCALENDAR
VERSION:2.0
CALSCALE:GREGORIAN
PRODID:adamgibbons/ics
METHOD:PUBLISH
X-PUBLISHED-TTL:PT1H
BEGIN:VEVENT
UID:21020@offbeat.amsterdam
SUMMARY:School Without Masters - topic to be determined
DTSTAMP:20260420T213709Z
DTSTART:20260719T153000Z
DTEND:20260719T180000Z
DESCRIPTION:Every Sunday\, 18:00 - 20:00\, we meet up and's talk about the 
	various topics we\nwanna talk\, learn and develop awareness about. Right n
	ow\, we're meeting at\nJoe's\, a squatted location. \n\nThis event starts 
	just after All Crafts Are Beautiful. The space is open while\npeople from 
	ACAB are finishing up. We start at 18:00.\n\nWe might hold an open session
	: No specific topic is focused on and conversation\nflows freely. Should w
	e want to focus on a topic to collectively educate\nourselves\, then that'
	s a decision we'll make in person at our evaluation meeting\non 28 June 20
	26. \\\n\nThe lines between masters and students blurs to a point where bo
	th terms become\nincreasingly meaningless\, their distinction arbitrary an
	d their hierarchy\nobsolete.\n\nWe hope to see you there!
URL:https://offbeat.amsterdam/event/school-without-masters-topic-to-be-dete
	rmined-3
GEO:52.35556625;4.9249982
LOCATION:Joe's Garage - Pretoriusstraat 43\, 1092 EZ Amsterdam
STATUS:CONFIRMED
CATEGORIES:advice/help/office hours,amsterdam-oost,course/workshop,discussi
	on/presentation,meeting,talk,transvaalbuurt
X-ALT-DESC;FMTTYPE=text/html:<p>Every Sunday, 18:00 - 20:00, we meet up and
	's talk about the various topics we wanna talk, learn and develop awarenes
	s about. Right now, we're meeting at Joe's, a squatted location.&nbsp;</p>
	<br><p>This event starts just after All Crafts Are Beautiful. The space is
	 open while people from ACAB are finishing up. We start at 18:00.</p><br><
	p>We might hold an open session: No specific topic is focused on and conve
	rsation flows freely. Should we want to focus on a topic to collectively e
	ducate ourselves, then that's a decision we'll make in person at our evalu
	ation meeting on 28 June 2026. \</p><br><p>The lines between masters and s
	tudents blurs to a point where both terms become increasingly meaningless,
	 their distinction arbitrary and their hierarchy obsolete.</p><br><p>We ho
	pe to see you there!</p>
BEGIN:VALARM
ACTION:DISPLAY
DESCRIPTION:School Without Masters - topic to be determined
TRIGGER:-PT1H
END:VALARM
END:VEVENT
END:VCALENDAR
