BEGIN:VCALENDAR
VERSION:2.0
CALSCALE:GREGORIAN
PRODID:adamgibbons/ics
METHOD:PUBLISH
X-PUBLISHED-TTL:PT1H
BEGIN:VEVENT
UID:21016@offbeat.amsterdam
SUMMARY:School Without Masters - [topic tbc] What if? (imagining hypothetic
	al situations / anarchist calisthenics)
DTSTAMP:20260420T214544Z
DTSTART:20260531T153000Z
DTEND:20260531T180000Z
DESCRIPTION:Every Sunday\, 18:00 - 20:00\, we meet up and's talk about the 
	various topics we\nwanna talk\, learn and develop awareness about. Right n
	ow\, we're meeting at\nJoe's\, a squatted location.\n\nThe doors open at 1
	7:30 and we start at 18:00.\n\nToday's topic is yet to be confirmed. We mi
	ght still change it by 26 April.\n\nWe will be discussing hypothetical sce
	narios. What if [something that has a\ndecent chance of actually happening
	] would happen\, how would you want to act in\nthat situation? Any scenari
	os are welcome (consider a trigger warning if\nnecessary) and then we will
	 discuss them together.\n\nSchools Without Masters is an anarchist initiat
	ive to learn together in a\nhorizontal setting. The lines between masters 
	and students blurs to a point\nwhere both terms become increasingly meanin
	gless\, their distinction arbitrary\nand their hierarchy obsolete.\n\n We 
	hope to see you there!
URL:https://offbeat.amsterdam/event/school-without-masters-topic-tbc-what-i
	f-imagining-hypothetical-situations-anarchist-calisthenics
GEO:52.35556625;4.9249982
LOCATION:Joe's Garage - Pretoriusstraat 43\, 1092 EZ Amsterdam
STATUS:CONFIRMED
CATEGORIES:advice/help/office hours,amsterdam-oost,course/workshop,discussi
	on/presentation,meeting,talk,transvaalbuurt
X-ALT-DESC;FMTTYPE=text/html:<p>Every Sunday, 18:00 - 20:00, we meet up and
	's talk about the various topics we wanna talk, learn and develop awarenes
	s about. Right now, we're meeting at Joe's, a squatted location.</p><br><p
	>The doors open at 17:30 and we start at 18:00.</p><br><p>Today's topic is
	 yet to be confirmed. We might still change it by 26 April.</p><br><p>We w
	ill be discussing hypothetical scenarios. What if [something that has a de
	cent chance of actually happening] would happen, how would you want to act
	 in that situation? Any scenarios are welcome (consider a trigger warning 
	if necessary) and then we will discuss them together.</p><br><p>Schools Wi
	thout Masters is an anarchist initiative to learn together in a horizontal
	 setting. The lines between masters and students blurs to a point where bo
	th terms become increasingly meaningless, their distinction arbitrary and 
	their hierarchy obsolete.</p><br><p>&nbsp;We hope to see you there!</p>
BEGIN:VALARM
ACTION:DISPLAY
DESCRIPTION:School Without Masters - [topic tbc] What if? (imagining hypoth
	etical situations / anarchist calisthenics)
TRIGGER:-PT1H
END:VALARM
END:VEVENT
END:VCALENDAR
