BEGIN:VCALENDAR
VERSION:2.0
CALSCALE:GREGORIAN
PRODID:adamgibbons/ics
METHOD:PUBLISH
X-PUBLISHED-TTL:PT1H
BEGIN:VEVENT
UID:21015@offbeat.amsterdam
SUMMARY:School Without Masters - [topic tbc] Academic Accessibility
DTSTAMP:20260420T213709Z
DTSTART:20260607T160000Z
DTEND:20260607T180000Z
DESCRIPTION:Every Sunday\, 18:00 - 20:00\, we meet up and's talk about the 
	various topics we\nwanna talk\, learn and develop awareness about. Right n
	ow\, we're meeting at\nJoe's\, a squatted location. \n\nToday's topic is a
	cademic accessibility: language\, paywalls\, readability\, zines\,\net cet
	era. The topic is still to be confirmed\, it might still change on 26\nApr
	il.\n\nThis event starts just after All Crafts Are Beautiful. The space is
	 open while\npeople from ACAB are finishing up. We start at 18:00.\n\nScho
	ol Without Masters is an anarchist initiative to learn together in a\nhori
	zontal setting. The lines between masters and students blurs to a point\nw
	here both terms become increasingly meaningless\, their distinction arbitr
	ary\nand their hierarchy obsolete.\n\n We hope to see you there!
URL:https://offbeat.amsterdam/event/school-without-masters-topic-tbc-academ
	ic-accessibility
GEO:52.35556625;4.9249982
LOCATION:Joe's Garage - Pretoriusstraat 43\, 1092 EZ Amsterdam
STATUS:CONFIRMED
CATEGORIES:advice/help/office hours,amsterdam-oost,course/workshop,discussi
	on/presentation,meeting,talk,transvaalbuurt
X-ALT-DESC;FMTTYPE=text/html:<p>Every Sunday, 18:00 - 20:00, we meet up and
	's talk about the various topics we wanna talk, learn and develop awarenes
	s about. Right now, we're meeting at Joe's, a squatted location.&nbsp;</p>
	<br><p>Today's topic is academic accessibility: language, paywalls, readab
	ility, zines, et cetera. The topic is still to be confirmed, it might stil
	l change on 26 April.</p><br><p>This event starts just after All Crafts Ar
	e Beautiful. The space is open while people from ACAB are finishing up. We
	 start at 18:00.</p><br><p>School Without Masters is an anarchist initiati
	ve to learn together in a horizontal setting. The lines between masters an
	d students blurs to a point where both terms become increasingly meaningle
	ss, their distinction arbitrary and their hierarchy obsolete.</p><br><p>&n
	bsp;We hope to see you there!</p>
BEGIN:VALARM
ACTION:DISPLAY
DESCRIPTION:School Without Masters - [topic tbc] Academic Accessibility
TRIGGER:-PT1H
END:VALARM
END:VEVENT
END:VCALENDAR
