BEGIN:VCALENDAR
VERSION:2.0
CALSCALE:GREGORIAN
PRODID:adamgibbons/ics
METHOD:PUBLISH
X-PUBLISHED-TTL:PT1H
BEGIN:VEVENT
UID:21013@offbeat.amsterdam
SUMMARY:School Without Masters - Future of AI
DTSTAMP:20260420T214109Z
DTSTART:20260510T160000Z
DTEND:20260510T180000Z
DESCRIPTION:Every Sunday\, 18:00 - 20:00\, we meet up and's talk about the 
	various topics we\nwanna talk\, learn and develop awareness about. Right n
	ow\, we're meeting at\nJoe's\, a squatted location. \n\nToday's topic is t
	he future of AI. \n\nThis event starts just after All Crafts Are Beautiful
	. The space is open while\npeople from ACAB are finishing up. We start at 
	18:00.\n\nSchool Without Masters is an anarchist initiative to learn toget
	her in a\nhorizontal setting. The lines between masters and students blurs
	 to a point\nwhere both terms become increasingly meaningless\, their dist
	inction arbitrary\nand their hierarchy obsolete.\n\n We hope to see you th
	ere!
URL:https://offbeat.amsterdam/event/school-without-masters-future-of-ai
GEO:52.35556625;4.9249982
LOCATION:Joe's Garage - Pretoriusstraat 43\, 1092 EZ Amsterdam
STATUS:CONFIRMED
CATEGORIES:advice/help/office hours,amsterdam-oost,course/workshop,discussi
	on/presentation,meeting,talk,transvaalbuurt
X-ALT-DESC;FMTTYPE=text/html:<p>Every Sunday, 18:00 - 20:00, we meet up and
	's talk about the various topics we wanna talk, learn and develop awarenes
	s about. Right now, we're meeting at Joe's, a squatted location.&nbsp;</p>
	<br><p>Today's topic is the future of AI.&nbsp;</p><br><p>This event start
	s just after All Crafts Are Beautiful. The space is open while people from
	 ACAB are finishing up. We start at 18:00.</p><br><p>School Without Master
	s is an anarchist initiative to learn together in a horizontal setting. Th
	e lines between masters and students blurs to a point where both terms bec
	ome increasingly meaningless, their distinction arbitrary and their hierar
	chy obsolete.</p><br><p>&nbsp;We hope to see you there!</p>
BEGIN:VALARM
ACTION:DISPLAY
DESCRIPTION:School Without Masters - Future of AI
TRIGGER:-PT1H
END:VALARM
END:VEVENT
END:VCALENDAR
