BEGIN:VCALENDAR
VERSION:2.0
CALSCALE:GREGORIAN
PRODID:adamgibbons/ics
METHOD:PUBLISH
X-PUBLISHED-TTL:PT1H
BEGIN:VEVENT
UID:21012@offbeat.amsterdam
SUMMARY:School Without Masters - Evaluation
DTSTAMP:20260420T213710Z
DTSTART:20260628T153000Z
DTEND:20260628T180000Z
DESCRIPTION:Every Sunday\, 18:00 - 20:00\, we meet up and's talk about the 
	various topics we\nwanna talk\, learn and develop awareness about. Right n
	ow\, we're meeting at\nJoe's\, a squatted location.\n\nThe doors open at 1
	7:30 and we start at 18:00.\n\nThis week we're talking about School Withou
	t Masters\; how things are going\,\nwhere we want to take things. We will 
	especially be evaluating the sessions\nwe've held from 26 April until last
	 week. \n\nSchool Without Masters is an anarchist initiative to learn toge
	ther in a\nhorizontal setting.The lines between masters and students blurs
	 to a point where\nboth terms become increasingly meaningless\, their dist
	inction arbitrary and\ntheir hierarchy obsolete.\n\n We hope to see you th
	ere!
URL:https://offbeat.amsterdam/event/school-without-masters-evaluation
GEO:52.35556625;4.9249982
LOCATION:Joe's Garage - Pretoriusstraat 43\, 1092 EZ Amsterdam
STATUS:CONFIRMED
CATEGORIES:advice/help/office hours,amsterdam-oost,course/workshop,discussi
	on/presentation,meeting,talk,transvaalbuurt
X-ALT-DESC;FMTTYPE=text/html:<p>Every Sunday, 18:00 - 20:00, we meet up and
	's talk about the various topics we wanna talk, learn and develop awarenes
	s about. Right now, we're meeting at Joe's, a squatted location.</p><br><p
	>The doors open at 17:30 and we start at 18:00.</p><br><p>This week we're 
	talking about School Without Masters; how things are going, where we want 
	to take things. We will especially be evaluating the sessions we've held f
	rom 26 April until last week.&nbsp;</p><br><p>School Without Masters is an
	 anarchist initiative to learn together in a horizontal setting.The lines 
	between masters and students blurs to a point where both terms become incr
	easingly meaningless, their distinction arbitrary and their hierarchy obso
	lete.</p><br><p>&nbsp;We hope to see you there!</p>
BEGIN:VALARM
ACTION:DISPLAY
DESCRIPTION:School Without Masters - Evaluation
TRIGGER:-PT1H
END:VALARM
END:VEVENT
END:VCALENDAR
