BEGIN:VCALENDAR
VERSION:2.0
CALSCALE:GREGORIAN
PRODID:adamgibbons/ics
METHOD:PUBLISH
X-PUBLISHED-TTL:PT1H
BEGIN:VEVENT
UID:21011@offbeat.amsterdam
SUMMARY:School Without Masters - Ethics vs Law
DTSTAMP:20260420T213709Z
DTSTART:20260503T153000Z
DTEND:20260503T180000Z
DESCRIPTION:Every Sunday\, 18:00 - 20:00\, we meet up and's talk about the 
	various topics we\nwanna talk\, learn and develop awareness about. Right n
	ow\, we're meeting at\nJoe's\, a squatted location.\n\nThe doors open at 1
	7:30 and we start at 18:00.\n\nThis session is meant to have a vague topic
	: No specific topic is focused on and\nconversation flows freely. Any ques
	tions\, thoughts or more specific topics you\ncan think of that relate to 
	ethics versus law\, are welcome and appreciated. The\nlines between master
	s and students blurs to a point where both terms become\nincreasingly mean
	ingless\, their distinction arbitrary and their hierarchy\nobsolete.\n\n W
	e hope to see you there!
URL:https://offbeat.amsterdam/event/school-without-masters-ethics-vs-law
GEO:52.35556625;4.9249982
LOCATION:Joe's Garage - Pretoriusstraat 43\, 1092 EZ Amsterdam
STATUS:CONFIRMED
CATEGORIES:advice/help/office hours,amsterdam-oost,course/workshop,discussi
	on/presentation,meeting,talk,transvaalbuurt
X-ALT-DESC;FMTTYPE=text/html:<p>Every Sunday, 18:00 - 20:00, we meet up and
	's talk about the various topics we wanna talk, learn and develop awarenes
	s about. Right now, we're meeting at Joe's, a squatted location.</p><br><p
	>The doors open at 17:30 and we start at 18:00.</p><br><p>This session is 
	meant to have a vague topic: No specific topic is focused on and conversat
	ion flows freely. Any questions, thoughts or more specific topics you can 
	think of that relate to ethics versus law, are welcome and appreciated. Th
	e lines between masters and students blurs to a point where both terms bec
	ome increasingly meaningless, their distinction arbitrary and their hierar
	chy obsolete.</p><br><p>&nbsp;We hope to see you there!</p>
BEGIN:VALARM
ACTION:DISPLAY
DESCRIPTION:School Without Masters - Ethics vs Law
TRIGGER:-PT1H
END:VALARM
END:VEVENT
END:VCALENDAR
