BEGIN:VCALENDAR
VERSION:2.0
CALSCALE:GREGORIAN
PRODID:adamgibbons/ics
METHOD:PUBLISH
X-PUBLISHED-TTL:PT1H
BEGIN:VEVENT
UID:21008@offbeat.amsterdam
SUMMARY:School Without Masters - Book Club
DTSTAMP:20260420T213902Z
DTSTART:20260524T153000Z
DTEND:20260524T180000Z
DESCRIPTION:Join School Without Masters for our first Book Club / Zine Shar
	e session! We\nstart at 18:00\, the doors open at 17:30.\n\nToday will be 
	our second of three book club sessions: 26 April\, 24 May and 21\nJune. Th
	e book in question will be decided on together at the first session\, so\n
	we will update this post afterwards. Everyone is welcome\, even if you hav
	e not\nread the book.\n\nBring your zines\, your book suggestions\, or jus
	t yourself! \n\nSchool Without Masters is an anarchist initiative to learn
	 horizontally. None of\nus are the teachers or experts\, we are all teachi
	ng each other. We currently\nhold our events in Joe's Garage\, a squatted 
	place. \n\nWe hope to see you there!
URL:https://offbeat.amsterdam/event/school-without-masters-book-club
GEO:52.35556625;4.9249982
LOCATION:Joe's Garage - Pretoriusstraat 43\, 1092 EZ Amsterdam
STATUS:CONFIRMED
CATEGORIES:advice/help/office hours,amsterdam-oost,books,course/workshop,di
	scussion/presentation,meeting,transvaalbuurt
X-ALT-DESC;FMTTYPE=text/html:<p>Join School Without Masters for our first B
	ook Club / Zine Share session! We start at 18:00, the doors open at 17:30.
	</p><br><p>Today will be our second of three book club sessions: 26 April,
	 24 May and 21 June. The book in question will be decided on together at t
	he first session, so we will update this post afterwards. Everyone is welc
	ome, even if you have not read the book.</p><br><p>Bring your zines, your 
	book suggestions, or just yourself!&nbsp;</p><br><p>School Without Masters
	 is an anarchist initiative to learn horizontally. None of us are the teac
	hers or experts, we are all teaching each other. We currently hold our eve
	nts in Joe's Garage, a squatted place.&nbsp;</p><br><p>We hope to see you 
	there!</p>
BEGIN:VALARM
ACTION:DISPLAY
DESCRIPTION:School Without Masters - Book Club
TRIGGER:-PT1H
END:VALARM
END:VEVENT
END:VCALENDAR
