BEGIN:VCALENDAR
VERSION:2.0
CALSCALE:GREGORIAN
PRODID:adamgibbons/ics
METHOD:PUBLISH
X-PUBLISHED-TTL:PT1H
BEGIN:VEVENT
UID:21010@offbeat.amsterdam
SUMMARY:School Without Masters - Book Club & Zine Share
DTSTAMP:20260420T214545Z
DTSTART:20260426T153000Z
DTEND:20260426T180000Z
DESCRIPTION:Join School Without Masters for our first Book Club / Zine Shar
	e session! We\nstart at 18:00\, the doors open at 17:30.\n\nToday will be 
	our first of three book club sessions: 26 April\, 24 May and 21\nJune. In 
	this first session we will decide together what book we want to read\nand 
	figure out how to make sure everyone has access to a (digital) copy of tha
	t\nbook if they want to read it. Perhaps an anarchist book or political fi
	ction.\nEveryone is welcome to join\, even if you won't read the book. Aft
	er all this\nsession is also a zine share\, where we can share our zine co
	llections and read\neach other's (not take them though unless someone says
	 you can have their copy).\n\nBring your zines\, your book suggestions\, o
	r just yourself! \n\nSchool Without Masters is an anarchist initiative to 
	learn horizontally. None of\nus are the teachers or experts\, we are all t
	eaching each other. We currently\nhold our events in Joe's Garage\, a squa
	tted place 
URL:https://offbeat.amsterdam/event/school-without-masters-book-club-and-zi
	ne-share
GEO:52.35556625;4.9249982
LOCATION:Joe's Garage - Pretoriusstraat 43\, 1092 EZ Amsterdam
STATUS:CONFIRMED
CATEGORIES:advice/help/office hours,amsterdam-oost,books,course/workshop,di
	scussion/presentation,meeting,transvaalbuurt
X-ALT-DESC;FMTTYPE=text/html:<p>Join School Without Masters for our first B
	ook Club / Zine Share session! We start at 18:00, the doors open at 17:30.
	</p><br><p>Today will be our first of three book club sessions: 26 April, 
	24 May and 21 June. In this first session we will decide together what boo
	k we want to read and figure out how to make sure everyone has access to a
	 (digital) copy of that book if they want to read it. Perhaps an anarchist
	 book or political fiction. Everyone is welcome to join, even if you won't
	 read the book. After all this session is also a zine share, where we can 
	share our zine collections and read each other's (not take them though unl
	ess someone says you can have their copy).</p><br><p>Bring your zines, you
	r book suggestions, or just yourself!&nbsp;</p><br><p>School Without Maste
	rs is an anarchist initiative to learn horizontally. None of us are the te
	achers or experts, we are all teaching each other. We currently hold our e
	vents in Joe's Garage, a squatted place&nbsp;</p>
BEGIN:VALARM
ACTION:DISPLAY
DESCRIPTION:School Without Masters - Book Club & Zine Share
TRIGGER:-PT1H
END:VALARM
END:VEVENT
END:VCALENDAR
