BEGIN:VCALENDAR
VERSION:2.0
CALSCALE:GREGORIAN
PRODID:adamgibbons/ics
METHOD:PUBLISH
X-PUBLISHED-TTL:PT1H
BEGIN:VEVENT
UID:21009@offbeat.amsterdam
SUMMARY:School Without Masters - Book Club
DTSTAMP:20260420T214110Z
DTSTART:20260621T153000Z
DTEND:20260621T180000Z
DESCRIPTION:Join School Without Masters for our first Book Club / Zine Shar
	e session! We\nstart at 18:00\, the doors open at 17:30.\n\nToday will be 
	our third of three book club sessions: 26 April\, 24 May and 21\nJune. The
	 book in question will be decided on together at the first session\, so\nw
	e will update this post afterwards. Everyone is welcome\, even if you have
	 not\nread the book.\n\nBring your zines\, your book suggestions\, or just
	 yourself! \n\nSchool Without Masters is an anarchist initiative to learn 
	horizontally. None of\nus are the teachers or experts\, we are all teachin
	g each other. We currently\nhold our events in Joe's Garage\, a squatted p
	lace. \n\nWe hope to see you there!
URL:https://offbeat.amsterdam/event/school-without-masters-book-club-1
GEO:52.35556625;4.9249982
LOCATION:Joe's Garage - Pretoriusstraat 43\, 1092 EZ Amsterdam
STATUS:CONFIRMED
CATEGORIES:advice/help/office hours,amsterdam-oost,books,course/workshop,di
	scussion/presentation,meeting,transvaalbuurt
X-ALT-DESC;FMTTYPE=text/html:<p>Join School Without Masters for our first B
	ook Club / Zine Share session! We start at 18:00, the doors open at 17:30.
	</p><br><p>Today will be our third of three book club sessions: 26 April, 
	24 May and 21 June. The book in question will be decided on together at th
	e first session, so we will update this post afterwards. Everyone is welco
	me, even if you have not read the book.</p><br><p>Bring your zines, your b
	ook suggestions, or just yourself!&nbsp;</p><br><p>School Without Masters 
	is an anarchist initiative to learn horizontally. None of us are the teach
	ers or experts, we are all teaching each other. We currently hold our even
	ts in Joe's Garage, a squatted place.&nbsp;</p><br><p>We hope to see you t
	here!</p>
BEGIN:VALARM
ACTION:DISPLAY
DESCRIPTION:School Without Masters - Book Club
TRIGGER:-PT1H
END:VALARM
END:VEVENT
END:VCALENDAR
