BEGIN:VCALENDAR
VERSION:2.0
CALSCALE:GREGORIAN
PRODID:adamgibbons/ics
METHOD:PUBLISH
X-PUBLISHED-TTL:PT1H
BEGIN:VEVENT
UID:21086@offbeat.amsterdam
SUMMARY:Saturday Funk Night w/ Curtis Millen & The Drenthe Brothers
DTSTAMP:20260422T184857Z
DTSTART:20260509T210000Z
DTEND:20260509T230000Z
DESCRIPTION:Curtis Millen is an Irish-born artist now based in the Netherla
	nds\, carving out\nhis place in the Dutch funk scene with high-energy sets
	 and a deep love for raw\,\nold-school groove. Drawing from the golden era
	 of funk\, his sound is all about\nfeel\, rhythm\, and keeping the dancefl
	oor moving.\n\nFor this night at Contra\, he links up with the Drenthe Bro
	thers\, Ruben\, and\nLouis\, two of Amsterdam’s most seasoned funk players
	. Expect heavy grooves\,\ntight pockets\, and a set built for those who kn
	ow. And for those who don't -\ncome get to know it!\n\nCurtis Millen - Voc
	als\n\nLouis Drenthe - Bass\n\nKasparas Petkus - Drums\n\nRuben Drenthe - 
	Keys\n\nSébastien Wrincq - Guitar
URL:https://offbeat.amsterdam/event/saturday-funk-night-with-curtis-millen-
	and-the-drenthe-brothers
GEO:52.3691458;4.8950558
LOCATION:Contra - Oudezijds Achterburgwal 235\, 1012 DL Amsterdam
STATUS:CONFIRMED
CATEGORIES:amsterdam-centrum,burgwallen,funk
X-ALT-DESC;FMTTYPE=text/html:<p>Curtis Millen is an Irish-born artist now b
	ased in the Netherlands, carving out his place in the Dutch funk scene wit
	h high-energy sets and a deep love for raw, old-school groove. Drawing fro
	m the golden era of funk, his sound is all about feel, rhythm, and keeping
	 the dancefloor moving.</p><p>For this night at Contra, he links up with t
	he Drenthe Brothers, Ruben, and Louis, two of Amsterdam’s most seasoned fu
	nk players. Expect heavy grooves, tight pockets, and a set built for those
	 who know. And for those who don't - come get to know it!</p><p>Curtis Mil
	len - Vocals</p><p>Louis Drenthe - Bass</p><p>Kasparas Petkus - Drums</p><
	p>Ruben Drenthe - Keys</p><p>Sébastien Wrincq - Guitar</p>
BEGIN:VALARM
ACTION:DISPLAY
DESCRIPTION:Saturday Funk Night w/ Curtis Millen & The Drenthe Brothers
TRIGGER:-PT1H
END:VALARM
END:VEVENT
END:VCALENDAR
