BEGIN:VCALENDAR
VERSION:2.0
CALSCALE:GREGORIAN
PRODID:adamgibbons/ics
METHOD:PUBLISH
X-PUBLISHED-TTL:PT1H
BEGIN:VEVENT
UID:21007@offbeat.amsterdam
SUMMARY:Samsa tekensessies
DTSTAMP:20260420T192740Z
DTSTART:20260430T183000Z
DESCRIPTION:Elke 2e donderdag van de maand:\n\n\nSAMSA TEKENSESSIES\n\nSams
	a organiseert modeltekensessies in Zaal 100. Deze avond richten we ons op\
	nlijn\, schaduw en vorm. Tijdens deze sessie van ongeveer twee uur neemt h
	et model\nverschillende poses aan\, variërend van een paar seconden tot tw
	intig minuten.\nVerder is er muziek\, en er zijn lekkere drankjes verkrijg
	baar aan de bar!\n\nHoewel er tekenmaterialen als potloden en papier besch
	ikbaar zullen zijn\,\nmoedigen we je aan om je eigen materialen mee te nem
	en. We willen dit evenement\nzo toegankelijk mogelijk houden\, maar zouden
	 een donatie waarderen. \;-)\n\nOnze doelgroep is divers\, en omvat zowel 
	mensen die pas recent het potlood ter\nhand hebben genomen\, als ervaren b
	evriende kunstenaars.\n\nVan tevoren graag aanmelden door even een bericht
	je te sturen naar:\nsamsa-amsterdam@outlook.com [samsa-amsterdam@outlook.c
	om].\n\nWe beginnen stipt om 20:30 uur!\n\nFor drinks: NO PIN / CASH ONLY
URL:https://offbeat.amsterdam/event/samsa-tekensessies-3
GEO:52.3830202;4.8780599
LOCATION:Zaal 100 - De Wittenstraat 100\, 1052 BA Amsterdam
STATUS:CONFIRMED
CATEGORIES:amsterdam-west,music,staatsliedenbuurt
X-ALT-DESC;FMTTYPE=text/html:Elke 2e donderdag van de maand: <h2>Samsa teke
	nsessies</h2>  <p>Samsa organiseert modeltekensessies in Zaal 100. Deze av
	ond richten we ons op lijn, schaduw en vorm. Tijdens deze sessie van ongev
	eer twee uur neemt het model verschillende poses aan, variërend van een pa
	ar seconden tot twintig minuten. Verder is er muziek, en er zijn lekkere d
	rankjes verkrijgbaar aan de bar!</p> <p>Hoewel er tekenmaterialen als potl
	oden en papier beschikbaar zullen zijn, moedigen we je aan om je eigen mat
	erialen mee te nemen. We willen dit evenement zo toegankelijk mogelijk hou
	den, maar zouden een donatie waarderen. ;-)</p> <p>Onze doelgroep is diver
	s, en omvat zowel mensen die pas recent het potlood ter hand hebben genome
	n, als ervaren bevriende kunstenaars.</p> <p>Van tevoren graag aanmelden d
	oor even een berichtje te sturen naar:<br> <a href="mailto:samsa-amsterdam
	@outlook.com">samsa-amsterdam@outlook.com</a>.</p> <p>We beginnen stipt om
	 20:30 uur!</p> <p>For drinks: NO PIN / CASH ONLY</p>
BEGIN:VALARM
ACTION:DISPLAY
DESCRIPTION:Samsa tekensessies
TRIGGER:-PT1H
END:VALARM
END:VEVENT
END:VCALENDAR
