BEGIN:VCALENDAR
VERSION:2.0
CALSCALE:GREGORIAN
PRODID:adamgibbons/ics
METHOD:PUBLISH
X-PUBLISHED-TTL:PT1H
BEGIN:VEVENT
UID:21112@offbeat.amsterdam
SUMMARY:Sacred Streams: A European Catalytic Voyage organized by Treesistan
	ce
DTSTAMP:20260422T231710Z
DTSTART:20260526T163000Z
DESCRIPTION:Treesistance partners with Sacred Streams: A European Catalytic
	 Voyage\nIndigenous leaders and their allies meet rainmakers and change ag
	ents across\nVienna\, Amsterdam\, Zurich\, Berlin and beyond. Through a se
	ries of catalytic\ngatherings\, we build collaborations and direct capital
	 toward the systemic\ninitiatives that matter most. Carriers of ancestral 
	consciousness from across\nthe Amazon including the Yepa Mahsa\, Huni Kuin
	\, Tapajós and allied nations of\nthe Global South - lead from the inside 
	out. Together\, we define priorities\,\nshape the agenda\, and govern the 
	process. This is not consultation. This is\nleadership. Expect a direct li
	ne between people who act and the resources that\nmake action possible. Th
	e communities protecting millions of hectares of\nrainforest are not waiti
	ng for permission. This voyage is for the people ready\nto meet them there
	. Invite only — for impact makers\, connectors\, funders\, and\ncollaborat
	ive partners. If that's you\, reach out to jesse@treesistance.com\n[jesse@
	treesistance.com] <mailto:jesse@treesistance.com\n[jesse@treesistance.com]
	>
URL:https://offbeat.amsterdam/event/sacred-streams-a-european-catalytic-voy
	age-organized-by-treesistance
GEO:52.354291;4.8540331
LOCATION:Teatro Munganga - Schinkelhavenstraat 27 HS\, 1075 VP Amsterdam
STATUS:CONFIRMED
CATEGORIES:amsterdam-zuid,community,schinkelbuurt
X-ALT-DESC;FMTTYPE=text/html:Treesistance partners with Sacred Streams: A E
	uropean Catalytic Voyage Indigenous leaders and their allies meet rainmake
	rs and change agents across Vienna, Amsterdam, Zurich, Berlin and beyond. 
	Through a series of catalytic gatherings, we build collaborations and dire
	ct capital toward the systemic initiatives that matter most. Carriers of a
	ncestral consciousness from across the Amazon including the Yepa Mahsa, Hu
	ni Kuin, Tapajós and allied nations of the Global South - lead from the in
	side out. Together, we define priorities, shape the agenda, and govern the
	 process. This is not consultation. This is leadership. Expect a direct li
	ne between people who act and the resources that make action possible. The
	 communities protecting millions of hectares of rainforest are not waiting
	 for permission. This voyage is for the people ready to meet them there. I
	nvite only — for impact makers, connectors, funders, and collaborative par
	tners. If that's you, reach out to <a href="mailto:jesse@treesistance.com"
	>jesse@treesistance.com</a> &lt;mailto:<a href="mailto:jesse@treesistance.
	com">jesse@treesistance.com</a>&gt;
BEGIN:VALARM
ACTION:DISPLAY
DESCRIPTION:Sacred Streams: A European Catalytic Voyage organized by Treesi
	stance
TRIGGER:-PT1H
END:VALARM
END:VEVENT
END:VCALENDAR
