BEGIN:VCALENDAR
VERSION:2.0
CALSCALE:GREGORIAN
PRODID:adamgibbons/ics
METHOD:PUBLISH
X-PUBLISHED-TTL:PT1H
BEGIN:VEVENT
UID:21166@offbeat.amsterdam
SUMMARY:RUIGE RAKKERS | TECHNIKA 10
DTSTAMP:20260424T193657Z
DTSTART:20260503T110000Z
DTEND:20260503T140000Z
DESCRIPTION:Ruige Rakkers (literally translated as Rough Rascals) is THE Su
	nday activity for\nkids on the wharf for everyone between 4 and 12 years o
	ld! Every week between\n13:00 – 16:00 you can justwalk in and join a diffe
	rent program. This week:\nTechnika!\n\nTogether with Pety you’ll spend the
	 afternoon working on technical projects!\nYou’ll learn carpentry\, assemb
	ly and cutting techniques so you can make\nsomething you like!\n\nEntrance
	 = free!
URL:https://offbeat.amsterdam/event/ruige-rakkers-or-technika-10-2
GEO:52.3991339;4.8930985
LOCATION:Pllek - TT Neveritaweg 59\, 1033 WB Amsterdam
STATUS:CONFIRMED
CATEGORIES:amsterdam-noord,ndsm
X-ALT-DESC;FMTTYPE=text/html:<p><strong>Ruige Rakkers (literally translated
	 as Rough Rascals) is THE Sunday activity for kids on the wharf for everyo
	ne between 4 and 12 years old! Every week between 13:00 – 16:00 you can ju
	stwalk in and join a different program. This week: Technika!</strong></p> 
	<p>Together with Pety you’ll spend the afternoon working on technical proj
	ects! You’ll learn carpentry, assembly and cutting techniques so you can m
	ake something you like!</p> <p>Entrance = free!</p>
BEGIN:VALARM
ACTION:DISPLAY
DESCRIPTION:RUIGE RAKKERS | TECHNIKA 10
TRIGGER:-PT1H
END:VALARM
END:VEVENT
END:VCALENDAR
