BEGIN:VCALENDAR
VERSION:2.0
CALSCALE:GREGORIAN
PRODID:adamgibbons/ics
METHOD:PUBLISH
X-PUBLISHED-TTL:PT1H
BEGIN:VEVENT
UID:21217@offbeat.amsterdam
SUMMARY:Ruel
DTSTAMP:20260425T175241Z
DTSTART:20261013T170000Z
DESCRIPTION:Australian pop sensation Ruel broke through at the age of just 
	14 and has since\namassed over 3 billion streams\, led multiple sold-out w
	orld tours\, and scored\ncountless platinum and gold hits.\n\nAt 23\, he i
	s among the most influential artists of his generation. Following the\nsuc
	cess of his debut album 4TH WALL (2023)\, he took the industry by storm wi
	th\nhis second album Kicking My Feet (2025)\, followed by a large-scale in
	ternational\ntour.\n\nIn 2026\, he surprised fans with the announcement of
	 the second part of his\ndouble album\, Kicking My Feet & Screaming\, ushe
	ring in a new creative phase.
URL:https://offbeat.amsterdam/event/ruel
GEO:52.3647777;4.881073026725959
LOCATION:Melkweg - Lijnbaansgracht 234A\, 1017 PH Amsterdam
STATUS:CONFIRMED
CATEGORIES:amsterdam-centrum,concert,indie pop,leidseplein,singer-songwrite
	r,teen pop
X-ALT-DESC;FMTTYPE=text/html:<p>Australian pop sensation Ruel broke through
	 at the age of just 14 and has since amassed over 3 billion streams, led m
	ultiple sold-out world tours, and scored countless platinum and gold hits.
	</p><p>At 23, he is among the most influential artists of his generation. 
	Following the success of his debut album 4TH WALL (2023), he took the indu
	stry by storm with his second album Kicking My Feet (2025), followed by a 
	large-scale international tour.</p><p>In 2026, he surprised fans with the 
	announcement of the second part of his double album, Kicking My Feet &amp;
	 Screaming, ushering in a new creative phase.</p>
BEGIN:VALARM
ACTION:DISPLAY
DESCRIPTION:Ruel
TRIGGER:-PT1H
END:VALARM
END:VEVENT
END:VCALENDAR
