BEGIN:VCALENDAR
VERSION:2.0
CALSCALE:GREGORIAN
PRODID:adamgibbons/ics
METHOD:PUBLISH
X-PUBLISHED-TTL:PT1H
BEGIN:VEVENT
UID:21145@offbeat.amsterdam
SUMMARY:Remille x Bar Theo
DTSTAMP:20260424T193514Z
DTSTART:20260429T190000Z
DTEND:20260430T000000Z
DESCRIPTION:Lineup:\nRemille
URL:https://offbeat.amsterdam/event/remille-x-bar-theo
GEO:52.3729576;4.878229
LOCATION:Bar Theo - Rozengracht 160\, 1016 NJ\, Amsterdam
STATUS:CONFIRMED
CATEGORIES:amsterdam-centrum,jordaan
X-ALT-DESC;FMTTYPE=text/html:<p></p><p><strong>Lineup:</strong><br>Remille<
	/p>
BEGIN:VALARM
ACTION:DISPLAY
DESCRIPTION:Remille x Bar Theo
TRIGGER:-PT1H
END:VALARM
END:VEVENT
END:VCALENDAR
