BEGIN:VCALENDAR
VERSION:2.0
CALSCALE:GREGORIAN
PRODID:adamgibbons/ics
METHOD:PUBLISH
X-PUBLISHED-TTL:PT1H
BEGIN:VEVENT
UID:21218@offbeat.amsterdam
SUMMARY:Rebetiko Against the Machine ♫ Yvonne Mellisa and Stelios Ladopoulo
	s ★ PaNiGiRi Vol. 2
DTSTAMP:20260425T181207Z
DTSTART:20260613T191500Z
DTEND:20260613T230000Z
DESCRIPTION:AN EPIC NIGHT RETURNS:\n\n\nREBETIKO AGAINST THE MACHINE + YVON
	NE MELISSA & STELIOS LADOPOULOS LIVE SATURDAY\n13 JUNE @ MEZRAB\n\nPaNiGiR
	i Vol. 2 A warm stage\, once again. A powerful ensemble\, reunited. Two\nl
	ive sets. A night of colourful melodies\, rhythm and togetherness. Step in
	to an\natmosphere where stories travel through strings and voices\, where 
	every note\ncarries memory\, and every rhythm invites you closer. Dance an
	d sing along to\nfolk classics from all over Greece\, carried by the singi
	ng voice of the violin\,\nthe soulful oud\, the pulse of the bouzouki and 
	the rhythms of the guitar and the\ndouble bass.\n\nFrom Rebetika\, songs f
	rom the islands and traditional folk—the journey\ncontinues...Don’t miss t
	his!!!\n\nhttps://www.instagram.com/rebetiko.against/\n[https://www.instag
	ram.com/rebetiko.against/]\n\n★\n\nDoors open: 20:30\nFirst live set: 21:1
	5\nTickets: 14\,50 EUR\n\nLimited online student tickets: 10 EUR
URL:https://offbeat.amsterdam/event/rebetiko-against-the-machine-beamed-eig
	hth-notes-yvonne-mellisa-and-stelios-ladopoulos-star-panigiri-vol-2
GEO:52.3759775;4.9275458
LOCATION:Mezrab - Veemkade 576\, 1019 BL Amsterdam
STATUS:CONFIRMED
CATEGORIES:amsterdam-oost,dance,eastern docklands,live,stories
X-ALT-DESC;FMTTYPE=text/html:<h1>AN EPIC NIGHT RETURNS:</h1>  <h1>REBETIKO 
	AGAINST THE MACHINE + YVONNE MELISSA &amp; STELIOS LADOPOULOS LIVE SATURDA
	Y 13 JUNE @ MEZRAB</h1> <em><strong>PaNiGiRi Vol. 2</strong></em> A warm s
	tage, once again. A powerful ensemble, reunited. Two live sets. A night of
	 colourful melodies, rhythm and togetherness. Step into an atmosphere wher
	e stories travel through strings and voices, where every note carries memo
	ry, and every rhythm invites you closer. Dance and sing along to folk clas
	sics from all over Greece, carried by the singing voice of the violin, the
	 soulful oud, the pulse of the bouzouki and the rhythms of the guitar and 
	the double bass.  <p>From Rebetika, songs from the islands and traditional
	 folk—the journey continues...Don’t miss this!!!</p> <p><a target="_blank"
	 href="https://www.instagram.com/rebetiko.against/">https://www.instagram.
	com/rebetiko.against/</a></p> <p>★</p> <p>Doors open: 20:30<br> First live
	 set: 21:15<br> Tickets: 14,50 EUR</p>  Limited online student tickets: 10
	 EUR
BEGIN:VALARM
ACTION:DISPLAY
DESCRIPTION:Rebetiko Against the Machine ♫ Yvonne Mellisa and Stelios Ladop
	oulos ★ PaNiGiRi Vol. 2
TRIGGER:-PT1H
END:VALARM
END:VEVENT
END:VCALENDAR
