BEGIN:VCALENDAR
VERSION:2.0
CALSCALE:GREGORIAN
PRODID:adamgibbons/ics
METHOD:PUBLISH
X-PUBLISHED-TTL:PT1H
BEGIN:VEVENT
UID:21126@offbeat.amsterdam
SUMMARY:Ratherlost 24hrs
DTSTAMP:20260423T184707Z
DTSTART:20260815T210000Z
DTEND:20260816T210000Z
DESCRIPTION:Beatrice M.\, D.Dan\, Decoder\, DJ Yazi\, Faustin\, Garçon b2b 
	Agonis\, Innersha live\,\nJakoJako live\, Kangding Ray\, KIA\, Luke Vibert
	\, Monophonik live\, Oma Totem live\,\nPolar Inertia live\, Priori\, Spekk
	i Webu\, Sunju Hargun\, TAUCETI\, Vlada\n\nClub\, Courtyard\, Colorfloor\n
	23:00 – 23:00 (doors close on Sunday at 21:00)\n\n18+
URL:https://offbeat.amsterdam/event/ratherlost-24hrs-1
GEO:52.3912546;4.8242219
LOCATION:Lofi - Basisweg 63\, 1043 AN Amsterdam
STATUS:CONFIRMED
CATEGORIES:amsterdam-west,dj,live,sloterdijk
X-ALT-DESC;FMTTYPE=text/html:Beatrice M., D.Dan, Decoder, DJ Yazi, Faustin,
	 Garçon b2b Agonis, Innersha live, JakoJako live, Kangding Ray, KIA, Luke 
	Vibert, Monophonik live, Oma Totem live, Polar Inertia live, Priori, Spekk
	i Webu, Sunju Hargun, TAUCETI, Vlada   <p>Club, Courtyard, Colorfloor<br> 
	23:00 – 23:00 (doors close on Sunday at 21:00)</p> <p>18+</p>
BEGIN:VALARM
ACTION:DISPLAY
DESCRIPTION:Ratherlost 24hrs
TRIGGER:-PT1H
END:VALARM
END:VEVENT
END:VCALENDAR
