BEGIN:VCALENDAR
VERSION:2.0
CALSCALE:GREGORIAN
PRODID:adamgibbons/ics
METHOD:PUBLISH
X-PUBLISHED-TTL:PT1H
BEGIN:VEVENT
UID:21051@offbeat.amsterdam
SUMMARY:Rapido - The King Edition
DTSTAMP:20260421T183348Z
DTSTART:20260426T130000Z
DESCRIPTION:The ultimate Sunday afternoon circuit party\n\nTickets for this
	 program are sold via Rapido. Questions regarding ticket sales\ncan be add
	ressed to info@clubrapido.com.
URL:https://offbeat.amsterdam/event/rapido-the-king-edition
GEO:52.36215535;4.883782439016489
LOCATION:Paradiso - Weteringschans 6\, 1017 SG Amsterdam
STATUS:CONFIRMED
CATEGORIES:amsterdam-centrum,leidseplein,party
X-ALT-DESC;FMTTYPE=text/html:The ultimate Sunday afternoon circuit party<br
	><p>Tickets for this program are sold via Rapido. Questions regarding tick
	et sales can be addressed to&nbsp;info@clubrapido.com.</p>
BEGIN:VALARM
ACTION:DISPLAY
DESCRIPTION:Rapido - The King Edition
TRIGGER:-PT1H
END:VALARM
END:VEVENT
END:VCALENDAR
