BEGIN:VCALENDAR
VERSION:2.0
CALSCALE:GREGORIAN
PRODID:adamgibbons/ics
METHOD:PUBLISH
X-PUBLISHED-TTL:PT1H
BEGIN:VEVENT
UID:21115@offbeat.amsterdam
SUMMARY:RADION Invites Vulged
DTSTAMP:20260423T000749Z
DTSTART:20260530T210000Z
DTEND:20260531T050000Z
URL:https://offbeat.amsterdam/event/radion-invites-vulged-2
GEO:52.3456292;4.8255446
LOCATION:Radion - Louwesweg 1\, 1066 EA Amsterdam
STATUS:CONFIRMED
CATEGORIES:amsterdam nieuw-west,slotervaart
BEGIN:VALARM
ACTION:DISPLAY
DESCRIPTION:RADION Invites Vulged
TRIGGER:-PT1H
END:VALARM
END:VEVENT
END:VCALENDAR
