BEGIN:VCALENDAR
VERSION:2.0
CALSCALE:GREGORIAN
PRODID:adamgibbons/ics
METHOD:PUBLISH
X-PUBLISHED-TTL:PT1H
BEGIN:VEVENT
UID:20968@offbeat.amsterdam
SUMMARY:Power to the Pipo + Manu Louis + DJ Gandalf
DTSTAMP:20260420T182332Z
DTSTART:20260515T190000Z
DTEND:20260515T230000Z
DESCRIPTION:Doors: 20.00\, start: 21.00. Tickets: Only doorsale sliding sca
	le 8-15\,-\n\nLive: Power to the Pipo + Manu Louis\n\nDJ: Gandalf\n\nHuman
	. Electronic. Music.\n\nPower to the Pipo creëert een wervelwind van diepe
	 elektronische sounds\, waarmee\nband en publiek volledig in verbinding st
	aan – samen in the zone. Verwacht\nhypnotiserende synthesizers en ronkende
	 baslijnen die versmelten met scheurende\ngitaren en beestachtige drums\, 
	die stilstaan onmogelijk maken. Check their\nsocials here [https://www.ins
	tagram.com/powertothepipomusic/].\n\nManu Louis\n\nBelgium born\, Berlin b
	ased and Iberian frequenter\, Manu Louis travels with a\nvillage of electr
	onic instruments and video projections from pop stars or\nanimals to deliv
	er passionate performances that eventually switches gears into\nan impromp
	tu discotheque.\nHis music mixes high and low culture to create provocativ
	e and decontextualized\njuxtapositions. His general blueprint remains the 
	same throughout all of his\nefforts\, but the ingredients he uses may vary
	: from dissident chanson française\,\ngenial dilettante\, avant-garde comp
	oser\, new beat\, old hit\, art-pop & hard bop.\n\nAlready curious? Check 
	their tunes here [https://soundcloud.com/manulouis]!
URL:https://offbeat.amsterdam/event/power-to-the-pipo-manu-louis-dj-gandalf
GEO:52.374158;4.8726931
LOCATION:De Nieuwe Anita - Frederik Hendrikstraat 111\, 1052 HN Amsterdam
STATUS:CONFIRMED
CATEGORIES:amsterdam-west,dj,electronics,live,music,performance,westerpark
X-ALT-DESC;FMTTYPE=text/html:<p><strong>Doors: 20.00, start: 21.00. Tickets
	: Only doorsale sliding scale 8-15,-</strong></p> <p>Live: <strong>Power t
	o the Pipo</strong> + <strong>Manu Louis</strong></p> <p>DJ: <strong>Ganda
	lf</strong></p> <p>Human. Electronic. Music.</p> <p><strong>Power to the P
	ipo</strong> creëert een wervelwind van diepe elektronische sounds, waarme
	e band en publiek volledig in verbinding staan – samen in <em>the zone. </
	em>Verwacht hypnotiserende synthesizers en ronkende baslijnen die versmelt
	en met scheurende gitaren en beestachtige drums, die stilstaan onmogelijk 
	maken. Check their socials<a target="_blank" href="https://www.instagram.c
	om/powertothepipomusic/"> here</a>.</p> <p><strong>Manu Louis </strong></p
	> <p>Belgium born, Berlin based and Iberian frequenter, Manu Louis travels
	 with a village of electronic instruments and video projections from pop s
	tars or animals to deliver passionate performances that eventually switche
	s gears into an impromptu discotheque.<br> His music mixes high and low cu
	lture to create provocative and decontextualized juxtapositions. His gener
	al blueprint remains the same throughout all of his efforts, but the ingre
	dients he uses may vary: from dissident chanson française, genial dilettan
	te, avant-garde composer, new beat, old hit, art-pop &amp; hard bop.</p> <
	p>Already curious? Check their tunes <a target="_blank" href="https://soun
	dcloud.com/manulouis">here</a>!</p>
BEGIN:VALARM
ACTION:DISPLAY
DESCRIPTION:Power to the Pipo + Manu Louis + DJ Gandalf
TRIGGER:-PT1H
END:VALARM
END:VEVENT
END:VCALENDAR
