BEGIN:VCALENDAR
VERSION:2.0
CALSCALE:GREGORIAN
PRODID:adamgibbons/ics
METHOD:PUBLISH
X-PUBLISHED-TTL:PT1H
BEGIN:VEVENT
UID:21165@offbeat.amsterdam
SUMMARY:PLLEK VAN LIEFDE | SPECIAL PARTNER EDITION
DTSTAMP:20260424T193708Z
DTSTART:20260530T080000Z
DTEND:20260530T110000Z
DESCRIPTION:Pllek van Liefde (or “Place of Love”) is a playful and immersiv
	e experience for\ncouples who want to nourish their connection. Not by tal
	king about love\, but by\nexperiencing it.\n\nWith a view over the IJ\, we
	 invite you to slow down\, to feel\, and to reconnect.\nWith yourself. Wit
	h each other. With what sometimes fades into the background in\neveryday l
	ife. You’ll explore attention\, breath\, energy\, movement\, and\ntouch—wi
	thin clear and safe boundaries.\n\nEach edition is different\, because no 
	one is the same every day. That’s what\nmakes Pllek van Liefde a place you
	 can return to again and again\, meeting each\nother on a new level each t
	ime. Sometimes light and playful\, sometimes intimate\nand deepening. Alwa
	ys respectful. Always attuned.\n\nYou’ll discover how tension and relaxati
	on enhance one another. How presence\ncreates space for desire. And how sm
	all shifts in attention can have a big\nimpact on intimacy and connection.
	\n\nNo complicated theory\, no performance. Just experiencing and feeling 
	what\nhappens when you truly meet each other—without a goal\, without rush
	ing.\n\nPllek van Liefde is for couples who value conscious living\, creat
	ivity\, and\ndepth—and for those who long for more aliveness and playfulne
	ss in their\nrelationship.\n\nThis is not a workshop to fix something.\nTh
	is is a space to explore\, experience\, and connect.\nWelcome to Pllek van
	 Liefde.\n\nYou don’t need any prior experience—just curiosity. This works
	hop is an\ninvitation to meet yourself and each other in a new way\, with 
	an open heart and\nyour feet on the ground.\n\nBoth editions are guided by
	 Jacquelien Weel and Thabo Hollander\, who create a\nsafe and supportive s
	pace with engaging exercises for an inner journey.\n\nWould you like to ex
	perience what this can mean for you?\n\nUpcoming dates in 2026:\n• May 30 
	— 10:00–13:00\n• July 11 — 10:00–13:00\n\nLocation: Pllek\, Amsterdam\nPri
	ce: €80 per couple (when booking\, select ‘1’ person)
URL:https://offbeat.amsterdam/event/pllek-van-liefde-or-special-partner-edi
	tion-1
GEO:52.3991339;4.8930985
LOCATION:Pllek - TT Neveritaweg 59\, 1033 WB Amsterdam
STATUS:CONFIRMED
CATEGORIES:amsterdam-noord,ndsm,performance,talk,workshop
X-ALT-DESC;FMTTYPE=text/html:<p><strong>Pllek van Liefde (or “Place of Love
	”) </strong>is a playful and immersive experience for couples who want to 
	nourish their connection. Not by talking about love, but by experiencing i
	t.</p> <p>With a view over the IJ, we invite you to slow down, to feel, an
	d to reconnect. With yourself. With each other. With what sometimes fades 
	into the background in everyday life. You’ll explore attention, breath, en
	ergy, movement, and touch—within clear and safe boundaries.</p> <p>Each ed
	ition is different, because no one is the same every day. That’s what make
	s <strong>Pllek van Liefde</strong> a place you can return to again and ag
	ain, meeting each other on a new level each time. Sometimes light and play
	ful, sometimes intimate and deepening. Always respectful. Always attuned.<
	/p> <p>You’ll discover how tension and relaxation enhance one another. How
	 presence creates space for desire. And how small shifts in attention can 
	have a big impact on intimacy and connection.</p> <p>No complicated theory
	, no performance. Just experiencing and feeling what happens when you trul
	y meet each other—without a goal, without rushing.</p> <p><strong>Pllek va
	n Liefde</strong> is for couples who value conscious living, creativity, a
	nd depth—and for those who long for more aliveness and playfulness in thei
	r relationship.</p> <p>This is not a workshop to fix something.<br>This is
	 a space to explore, experience, and connect.<br> <em>Welcome to Pllek van
	 Liefde</em>.</p> <p>You don’t need any prior experience—just curiosity. T
	his workshop is an invitation to meet yourself and each other in a new way
	, with an open heart and your feet on the ground.</p> <p>Both editions are
	 guided by <strong>Jacquelien Weel</strong> and <strong>Thabo Hollander</s
	trong>, who create a safe and supportive space with engaging exercises for
	 an inner journey.</p> <p>Would you like to experience what this can mean 
	for you?</p> <p><strong>Upcoming dates in 2026:<br> </strong>• May 30 — 10
	:00–13:00<br>• July 11 — 10:00–13:00</p> <p><strong>Location:</strong> Pll
	ek, Amsterdam<br><strong>Price:</strong> €80 per couple (when booking, sel
	ect ‘1’ person)</p>
BEGIN:VALARM
ACTION:DISPLAY
DESCRIPTION:PLLEK VAN LIEFDE | SPECIAL PARTNER EDITION
TRIGGER:-PT1H
END:VALARM
END:VEVENT
END:VCALENDAR
