BEGIN:VCALENDAR
VERSION:2.0
CALSCALE:GREGORIAN
PRODID:adamgibbons/ics
METHOD:PUBLISH
X-PUBLISHED-TTL:PT1H
BEGIN:VEVENT
UID:21158@offbeat.amsterdam
SUMMARY:Plant-based als go-to
DTSTAMP:20260424T193516Z
DTSTART:20260527T180000Z
DESCRIPTION:We willen minder dieren eten maar vlees en zuivel zijn overal. 
	Hoe verschuiven\nwe de norm?\n\nWe willen minder dieren eten maar vlees en
	 zuivel zijn overal. Ons gedrag wordt\nin grote mate bepaald door gemak en
	 gewoontes. Vega moet gewoon simpel\, goedkoop\nen lekker zijn. Dus de vra
	ag is: hoe maken we plant-based de go-to optie? In het\ntweede deel van de
	 reeks Nederland van dier naar plant hebben we het over ons\nvoedselaanbod
	 in de supermarkt\, de kantine en het ziekenhuis. Psycholoog Jan\nWillem B
	olderdijk duikt in de overgang van zwarte piet naar roetveegpiet om\nlesse
	n te trekken voor iedereen die werkt aan een plantaardiger dieet. Hoe\npas
	sen we die principes toe in de praktijk?\n\nMet in dit programma Jan Wille
	m Bolderdijk Full Professor of Sustainability &\nMarketing\, UvA [https://
	www.linkedin.com/in/jan-willem-bolderdijk-b577434/]
URL:https://offbeat.amsterdam/event/plant-based-als-go-to
GEO:52.376857;4.9220756
LOCATION:Pakhuis de Zwijger - Piet Heinkade 179\, 1019 HC Amsterdam
STATUS:CONFIRMED
CATEGORIES:amsterdam-centrum,duurzaamheid,eastern docklands,plants
X-ALT-DESC;FMTTYPE=text/html:We willen minder dieren eten maar vlees en zui
	vel zijn overal. Hoe verschuiven we de norm? <p>We willen minder dieren et
	en maar vlees en zuivel zijn overal. Ons gedrag wordt in grote mate bepaal
	d door gemak en gewoontes. Vega moet gewoon simpel, goedkoop en lekker zij
	n. Dus de vraag is: hoe maken we plant-based de go-to optie? In het tweede
	 deel van de reeks Nederland van dier naar plant hebben we het over ons vo
	edselaanbod in de supermarkt, de kantine en het ziekenhuis. Psycholoog Jan
	 Willem Bolderdijk duikt in de overgang van zwarte piet naar roetveegpiet 
	om lessen te trekken voor iedereen die werkt aan een plantaardiger dieet. 
	Hoe passen we die principes toe in de praktijk?</p>    Met in dit programm
	a  <a href="https://www.linkedin.com/in/jan-willem-bolderdijk-b577434/" ta
	rget="_blank">  Jan Willem Bolderdijk Full Professor of Sustainability &am
	p; Marketing, UvA  </a>
BEGIN:VALARM
ACTION:DISPLAY
DESCRIPTION:Plant-based als go-to
TRIGGER:-PT1H
END:VALARM
END:VEVENT
END:VCALENDAR
