BEGIN:VCALENDAR
VERSION:2.0
CALSCALE:GREGORIAN
PRODID:adamgibbons/ics
METHOD:PUBLISH
X-PUBLISHED-TTL:PT1H
BEGIN:VEVENT
UID:20981@offbeat.amsterdam
SUMMARY:Pegasus X Uitkijk
DTSTAMP:20260420T180531Z
DTSTART:20260506T190000Z
DESCRIPTION:Op 6 mei keert de filmclub van Pegasus Boekhandel terug naar De
	 Uitkijk! De\nfilmclub vertoont belangrijke films uit Midden- en Oost-Euro
	pa\, van klassiekers\ntot obscure parels die tot dusver onder de radar zij
	n gebleven. Pegasus'\nwederkeer naar ons filmtheater vieren we ditmaal met
	 een vertoning van een\nabsolute klassieker: Soy Cuba (1964) van Mikhail K
	alazotov.\n\nMore info here [https://uitkijk.nl/en/film/pegasus-x-uitkijk-
	soy-cuba-1964]!
URL:https://offbeat.amsterdam/event/pegasus-x-uitkijk
GEO:52.36476;4.8843948
LOCATION:De Uitkijk - Prinsengracht 452\, 1017 KE Amsterdam
STATUS:CONFIRMED
CATEGORIES:amsterdam-centrum,leidseplein
X-ALT-DESC;FMTTYPE=text/html:<p>Op 6 mei keert de filmclub van Pegasus Boek
	handel terug naar De Uitkijk! De filmclub vertoont belangrijke films uit M
	idden- en Oost-Europa, van klassiekers tot obscure parels die tot dusver o
	nder de radar zijn gebleven. Pegasus' wederkeer naar ons filmtheater viere
	n we ditmaal met een vertoning van een absolute klassieker: Soy Cuba (1964
	) van Mikhail Kalazotov.</p><p><b>More info <a href="https://uitkijk.nl/en
	/film/pegasus-x-uitkijk-soy-cuba-1964">here</a>!</b></p>
BEGIN:VALARM
ACTION:DISPLAY
DESCRIPTION:Pegasus X Uitkijk
TRIGGER:-PT1H
END:VALARM
END:VEVENT
END:VCALENDAR
