BEGIN:VCALENDAR
VERSION:2.0
CALSCALE:GREGORIAN
PRODID:adamgibbons/ics
METHOD:PUBLISH
X-PUBLISHED-TTL:PT1H
BEGIN:VEVENT
UID:21030@offbeat.amsterdam
SUMMARY:Past\, Crescent\, Future
DTSTAMP:20260421T183241Z
DTSTART:20260530T180000Z
DESCRIPTION:In een tijd waarin zichtbaarheid niet vanzelfsprekend is\, creë
	ren we ruimte voor\nverhalen\, ontmoetingen en gedeelde ervaringen. Fotogr
	aaf Yasemin Demirözcan en\ndichter en presentator Hasan Gök presenteren ee
	n programma waarin verschillende\nstemmen en perspectieven uit de queer mo
	slimgemeenschap samenkomen.\n\n\nPROGRAMMA\n\n * Host Hasan Gök zal de avo
	nd openen\, gevolgd door een live meditatie van Esma\n   Alouet.\n * Hiern
	a hebben we de onthulling van een bijzondere poëtische foto-expositie\n   
	met fotografie van Yasemin\, gecombineerd met gedichten van Hasan\, geschr
	even\n   over de geportretteerden.\n * Gevolgd met een kort gesprek met Ya
	semin over het maakproces en hoe deze\n   expositie bijdraagt aan een arch
	ief van queer moslims.\n * Dansmaker Amira al Rawi neemt daarna het podium
	 over met een performance die\n   het lichaam als drager van herinnering e
	n mogelijkheid verkent.\n   Omdat tijdens deze avond verbinding\, viering 
	en verbeelding centraal staan\,\n   sluiten we het programma af met het ui
	treiken van drie halve manen: we zetten\n   drie mensen uit de community i
	n het zonnetje\, of in het maanlicht. Een blijk\n   van waardering\, net a
	ls een maan\, soms in het donker maar zeker zichtbaar.\n   Mensen uit de g
	emeenschap die voor hen wat betekenen door er alleen al te\n   zijn.\n   N
	a afloop van het programma sluiten we de avond feestelijk af met sounds va
	n\n   DJ Psiertje.\n\nPlease note: Deze avond wordt georganiseerd door en 
	voor de queer\nmoslimgemeenschap. Iedereen is welkom en de veiligheid van 
	de gemeenschap staat\nvoorop. We faciliteren een ruimte vrij van welke vor
	m van discriminatie of\nxenofobie.\n\n\nLINE-UP\n\nYasemin Demirözcan\nYas
	emin Demirözcan (geboren in 2000) is een autodidactische fotograaf met een
	\nachtergrond in sociologie en visuele antropologie. Door zich te bewegen 
	tussen\nverschillende culturele en sociale landschappen\, ontstaat haar we
	rk uit de\nspanningen en vertalingen die de diasporische ervaring vormgeve
	n.\n\nVia intieme visuele narratieven plaatst ze levens en perspectieven c
	entraal die\nvaak worden verhuld of over het hoofd gezien. Voor haar is fo
	tografie niet\nslechts een medium\, maar een ruimte van ontmoeting\, waar 
	empathie\, kwetsbaarheid\nen politiek bewustzijn samenkomen. Yasemin benad
	ert het maken van beelden als\neen daad van getuigenis die dominante narra
	tieven kan uitdagen\, dialoog kan\nopenen en ruimte kan creëren voor wat n
	iet gemakkelijk zichtbaar of uit te\ndrukken is.\n\nLees meer\n\nHasan Gök
	\nHasan Gök is spoken word-artiest\, dichter\, presentator en programmamak
	er. In\nzijn werk verkent hij verschillende lagen van identiteit en de kra
	cht van\nverhalen in performance en samenkomst. Hij creëert ruimte voor on
	tmoeting\,\nreflectie en verbeelding\, en verbindt kunst\, activisme en ge
	meenschap. Hasan\nstond op podia als Paradiso\, Theater Rotterdam\, Amare 
	en Het Nationale Theater.\n\nAmira al Rawi\nAmira is een autodidact theate
	rmaker. Zij is begonnen in de Hiphop scene waar\nzij verschillende danssti
	jlen in heeft beoefend. Al deze stijlen heeft zij\nvervormd naar een eigen
	 signatuur\, intiem en kwetsbaar van karakter.\n\nIn de afgelopen jaren he
	eft zij zich ontwikkeld in\nde stijl Flamenco. Dit verweeft zij met andere
	 dansstijlen die allemaal\ngeworteld zijn in expressie als vorm van verzet
	. Op deze avond zal zij ons\nmeenemen in de essentie van deze stijlen en e
	en dansperformance opvoeren.\n\nLees meer\n\nEsma Alouet\nEsma is een van 
	de vele inwoners van Amsterdam en fietst tot ergernis van haar\nmedefietse
	rs niet zo snel. Het liefst zit ze bij de namiddagzon met een glaasje\nata
	y te mijmeren over het leven. Zij behandelt als gz psycholoog mensen met\n
	uiteenlopende klachten. Esma is ook werkzaam als shiatsutherapeut\, ze gel
	ooft in\neen holistische lichaamsgerichte visie waardoor ze kijkt naar de 
	mens als\ngeheel.\n\nPsiertje Boukhit\nPsiertje Boukhit is een Nederlands-
	Tunesische DJ\, producer en rapper die bekend\nstaat om haar energie en kr
	achtige sound. Met een unieke mix van Midden-Oosterse\ninvloeden\, hiphop\
	, bass en club sounds weet ze elke set om te toveren tot een\nintense en o
	nvergetelijke ervaring.\n\nHaar reis begon als danseres\, waar ze een ster
	k gevoel voor ritme en beweging\nontwikkelde – iets wat vandaag de dag dui
	delijk terugkomt in haar DJ-sets. Alles\nwat ze draait is gericht op één d
	oel: de vloer laten trillen en het publiek\nvolledig meenemen in haar ener
	gie.\n\nLees meer\n\nWould you like to attend this program\, but don’t hav
	e the means to pay for a\nticket? Send an email to info@felixmeritis.nl\, 
	we can work something out.\n\nNote: By booking this ticket\, you agree to 
	potentially be photographed during\nthe event.
URL:https://offbeat.amsterdam/event/past-crescent-future
GEO:52.3699902;4.884254
LOCATION:Felix Meritis - Keizersgracht 324\, 1016 EZ Amsterdam
STATUS:CONFIRMED
CATEGORIES:amsterdam-centrum,community,dj,keizersgracht,live,performance,qu
	eer,theater
X-ALT-DESC;FMTTYPE=text/html:<p><strong>In een tijd waarin zichtbaarheid ni
	et vanzelfsprekend is, creëren we ruimte voor verhalen, ontmoetingen en ge
	deelde ervaringen. Fotograaf Yasemin Demirözcan en dichter en presentator 
	Hasan Gök presenteren een programma waarin verschillende stemmen en perspe
	ctieven uit de queer moslimgemeenschap samenkomen.</strong></p>      <h3> 
	 Programma  </h3>   <ul> <li>Host <strong>Hasan Gök</strong> zal de avond 
	openen, gevolgd door een live meditatie van <strong>Esma Alouet. </strong>
	</li> <li>Hierna hebben we de onthulling van een bijzondere poëtische foto
	-expositie met fotografie van Yasemin, gecombineerd met gedichten van Hasa
	n, geschreven over de geportretteerden. </li> <li>Gevolgd met een kort ges
	prek met Yasemin over het maakproces en hoe deze expositie bijdraagt aan e
	en archief van queer moslims. </li> <li>Dansmaker <strong>Amira al Rawi </
	strong>neemt daarna het podium over met een performance die het lichaam al
	s drager van herinnering en mogelijkheid verkent.<br>Omdat tijdens deze av
	ond verbinding, viering en verbeelding centraal staan, sluiten we het prog
	ramma af met het uitreiken van <strong>drie halve manen</strong>: we zette
	n drie mensen uit de community in het zonnetje, of in het maanlicht. Een b
	lijk van waardering, net als een maan, soms in het donker maar zeker zicht
	baar. Mensen uit de gemeenschap die voor hen wat betekenen door er alleen 
	al te zijn. <br>Na afloop van het programma sluiten we de avond feestelijk
	 af met sounds van <strong>DJ Psiertje.</strong></li> </ul>        <p><em>
	<strong>Please note: </strong></em>Deze avond wordt georganiseerd door en 
	voor de queer moslimgemeenschap. Iedereen is welkom en de veiligheid van d
	e gemeenschap staat voorop. We faciliteren een ruimte vrij van welke vorm 
	van discriminatie of xenofobie.</p> <h2>Line-up</h2>    <p><strong>Yasemin
	 Demirözcan</strong> <br>Yasemin Demirözcan (geboren in 2000) is een autod
	idactische fotograaf met een achtergrond in sociologie en visuele antropol
	ogie. Door zich te bewegen tussen verschillende culturele en sociale lands
	chappen, ontstaat haar werk uit de spanningen en vertalingen die de diaspo
	rische ervaring vormgeven. </p> <p>Via intieme visuele narratieven plaatst
	 ze levens en perspectieven centraal die vaak worden verhuld of over het h
	oofd gezien. Voor haar is fotografie niet slechts een medium, maar een rui
	mte van ontmoeting, waar empathie, kwetsbaarheid en politiek bewustzijn sa
	menkomen. Yasemin benadert het maken van beelden als een daad van getuigen
	is die dominante narratieven kan uitdagen, dialoog kan openen en ruimte ka
	n creëren voor wat niet gemakkelijk zichtbaar of uit te drukken is.</p>  L
	ees meer    <p><strong>Hasan Gök </strong><br>Hasan Gök is spoken word-art
	iest, dichter, presentator en programmamaker. In zijn werk verkent hij ver
	schillende lagen van identiteit en de kracht van verhalen in performance e
	n samenkomst. Hij creëert ruimte voor ontmoeting, reflectie en verbeelding
	, en verbindt kunst, activisme en gemeenschap. Hasan stond op podia als Pa
	radiso, Theater Rotterdam, Amare en Het Nationale Theater.</p>     <p><str
	ong>Amira al Rawi</strong><br>Amira is een autodidact theatermaker. Zij is
	 begonnen in de Hiphop scene waar zij verschillende dansstijlen in heeft b
	eoefend. Al deze stijlen heeft zij vervormd naar een eigen signatuur, inti
	em en kwetsbaar van karakter. </p> <p>In de afgelopen jaren heeft zij zich
	 ontwikkeld in<br>de stijl Flamenco. Dit verweeft zij met andere dansstijl
	en die allemaal geworteld zijn in expressie als vorm van verzet. Op deze a
	vond zal zij ons meenemen in de essentie van deze stijlen en een dansperfo
	rmance opvoeren.</p>  Lees meer    <p><strong>Esma Alouet</strong><br>Esma
	 is een van de vele inwoners van Amsterdam en fietst tot ergernis van haar
	 medefietsers niet zo snel. Het liefst zit ze bij de namiddagzon met een g
	laasje atay te mijmeren over het leven. Zij behandelt als gz psycholoog me
	nsen met uiteenlopende klachten. Esma is ook werkzaam als shiatsutherapeut
	, ze gelooft in een holistische lichaamsgerichte visie waardoor ze kijkt n
	aar de mens als geheel.</p>     <p><strong>Psiertje Boukhit </strong><br>P
	siertje Boukhit is een Nederlands-Tunesische DJ, producer en rapper die be
	kend staat om haar energie en krachtige sound. Met een unieke mix van Midd
	en-Oosterse invloeden, hiphop, bass en club sounds weet ze elke set om te 
	toveren tot een intense en onvergetelijke ervaring. </p> <p>Haar reis bego
	n als danseres, waar ze een sterk gevoel voor ritme en beweging ontwikkeld
	e – iets wat vandaag de dag duidelijk terugkomt in haar DJ-sets. Alles wat
	 ze draait is gericht op één doel: de vloer laten trillen en het publiek v
	olledig meenemen in haar energie.</p>  Lees meer    <p><em>Would you like 
	to attend this program, but don’t have the means to pay for a ticket? Send
	 an email to info@felixmeritis.nl, we can work something out.</em></p> <p>
	<em>Note: By booking this ticket, you agree to potentially be photographed
	 during the event.</em></p>
BEGIN:VALARM
ACTION:DISPLAY
DESCRIPTION:Past, Crescent, Future
TRIGGER:-PT1H
END:VALARM
END:VEVENT
END:VCALENDAR
