BEGIN:VCALENDAR
VERSION:2.0
CALSCALE:GREGORIAN
PRODID:adamgibbons/ics
METHOD:PUBLISH
X-PUBLISHED-TTL:PT1H
BEGIN:VEVENT
UID:21209@offbeat.amsterdam
SUMMARY:Paper Cabaret
DTSTAMP:20260425T175246Z
DTSTART:20260516T170000Z
DESCRIPTION:Your favorite monthly event is back on the 16th of May.\n\nSinc
	e June 2005\, Joe's Garage is an autonomous squatted political social cent
	er\,\na meeting place in the Transvaal neighborhood for squatters and non-
	squatters\,\nsubsidy free\, not for profit\, self-organized and entirely r
	un by volunteers.\n\nhttps://squ.at/joe [https://squ.at/joe]\nhttps://joe.
	squat.net [https://joe.squat.net]
URL:https://offbeat.amsterdam/event/paper-cabaret-4
GEO:52.35556625;4.9249982
LOCATION:Joe's Garage - Pretoriusstraat 43\, 1092 EZ Amsterdam
STATUS:CONFIRMED
CATEGORIES:amsterdam-oost,cabaret,course/workshop,transvaalbuurt
X-ALT-DESC;FMTTYPE=text/html:<p>Your favorite monthly event is back on the 
	16th of May.</p><br><p>Since June 2005, Joe's Garage is an autonomous squa
	tted political social center, a meeting place in the Transvaal neighborhoo
	d for squatters and non-squatters, subsidy free, not for profit, self-orga
	nized and entirely run by volunteers.</p><br><p><a href="https://squ.at/jo
	e">https://squ.at/joe</a><br><a href="https://joe.squat.net">https://joe.s
	quat.net</a></p>
BEGIN:VALARM
ACTION:DISPLAY
DESCRIPTION:Paper Cabaret
TRIGGER:-PT1H
END:VALARM
END:VEVENT
END:VCALENDAR
