BEGIN:VCALENDAR
VERSION:2.0
CALSCALE:GREGORIAN
PRODID:adamgibbons/ics
METHOD:PUBLISH
X-PUBLISHED-TTL:PT1H
BEGIN:VEVENT
UID:21108@offbeat.amsterdam
SUMMARY:overpass
DTSTAMP:20260422T184312Z
DTSTART:20260918T183000Z
DESCRIPTION:De rauwheid van The War On Drugs\; de verhalende kracht van Tom
	 Petty\, wat\nshoegaze hier\, shoegaze daar\; in het voorprogramma van ban
	ds als The Wombats en\nInhaler. Je kunt het er allemaal bij betrekken als 
	je praat over Overpass: de\nsensatieformatie die de stadsmuren van Birming
	ham met z’n vieren allang heeft\nontgroeid. Bewezen door uitverkochte show
	s\, beaamd door trouwe fans van de\nlokale muziekcultuur en bovenal gekenm
	erkt door hun take op de jaren ’90 moderne\nalt-rock laat de band een gelu
	id horen dat de slapeloze nachten en\nonverwoestbare hoop van het twintige
	rleven viert.Hun debuutalbum ‘Elsewhere\,\nAlways’ is arena-ready en een v
	oltallig voorbeeld van jonge ambitie.
URL:https://offbeat.amsterdam/event/overpass
GEO:52.3830883;4.9030297
LOCATION:Tolhuistuin - IJpromenade 2\, 1031 KT Amsterdam
STATUS:CONFIRMED
CATEGORIES:amsterdam-noord,buiksloterweg,rock,shoegaze
X-ALT-DESC;FMTTYPE=text/html:<p>De rauwheid van The War On Drugs; de verhal
	ende kracht van Tom Petty, wat shoegaze hier, shoegaze daar; in het voorpr
	ogramma van bands als The Wombats en Inhaler. Je kunt het er allemaal bij 
	betrekken als je praat over <em>Overpass</em>: de sensatieformatie die de 
	stadsmuren van Birmingham met z’n vieren allang heeft ontgroeid. Bewezen d
	oor uitverkochte shows, beaamd door trouwe fans van de lokale muziekcultuu
	r en bovenal gekenmerkt door hun take op de jaren ’90 moderne alt-rock laa
	t de band een geluid horen dat de slapeloze nachten en onverwoestbare hoop
	 van het twintigerleven viert.Hun debuutalbum ‘Elsewhere, Always’ is arena
	-ready en een voltallig voorbeeld van jonge ambitie.</p>
BEGIN:VALARM
ACTION:DISPLAY
DESCRIPTION:overpass
TRIGGER:-PT1H
END:VALARM
END:VEVENT
END:VCALENDAR
