BEGIN:VCALENDAR
VERSION:2.0
CALSCALE:GREGORIAN
PRODID:adamgibbons/ics
METHOD:PUBLISH
X-PUBLISHED-TTL:PT1H
BEGIN:VEVENT
UID:21117@offbeat.amsterdam
SUMMARY:Overbruggen x Hot Meal - King's Night
DTSTAMP:20260423T185028Z
DTSTART:20260426T180000Z
DTEND:20260427T030000Z
DESCRIPTION:This year\, on King’s Night\, Overbruggen teams up with Hot Mea
	l for a proper\ncelebration of the Dutch King’s birthday.\n\nHot Meal is a
	 Berlin-based label and event known for the fun\, groovy\, bouncy\nside of
	 techno and trance.\n\nExpect high energy\, fast feet\, and full release. 
	Bridging the gap between you\nand the music.\n\n\nLineup:\nBad Boombox\nBA
	D BOOMBOX B2B Ollie Lishman\nEmma B\nJessie Dols\nMischluft\nPaige Tomlins
	on\nMORE TBA
URL:https://offbeat.amsterdam/event/overbruggen-x-hot-meal-kings-night
GEO:52.3898525;4.836764
LOCATION:Bret - Orlyplein 76\, 1043 DP Amsterdam
STATUS:CONFIRMED
CATEGORIES:amsterdam-west,sloterdijk,techno
X-ALT-DESC;FMTTYPE=text/html:<p>This year, on King’s Night, Overbruggen tea
	ms up with Hot Meal for a proper celebration of the Dutch King’s birthday.
	<br><br>Hot Meal is a Berlin-based label and event known for the fun, groo
	vy, bouncy side of techno and trance.<br><br>Expect high energy, fast feet
	, and full release. Bridging the gap between you and the music.<br></p><p>
	<strong>Lineup:</strong><br>Bad Boombox <br>BAD BOOMBOX B2B Ollie Lishman 
	<br>Emma B <br>Jessie Dols <br>Mischluft <br>Paige Tomlinson <br>MORE TBA<
	/p>
BEGIN:VALARM
ACTION:DISPLAY
DESCRIPTION:Overbruggen x Hot Meal - King's Night
TRIGGER:-PT1H
END:VALARM
END:VEVENT
END:VCALENDAR
