BEGIN:VCALENDAR
VERSION:2.0
CALSCALE:GREGORIAN
PRODID:adamgibbons/ics
METHOD:PUBLISH
X-PUBLISHED-TTL:PT1H
BEGIN:VEVENT
UID:21229@offbeat.amsterdam
SUMMARY:Omnibus x Toekomstmuziek
DTSTAMP:20260425T180308Z
DTSTART:20260529T180000Z
DTEND:20260530T010000Z
DESCRIPTION:Omnibus Collective is back at Primo's\, the upper room of Toeko
	mstmuziek for a\nsecond round this year. This time bringing UK House legen
	d Darren Roach for an\nintimate club night. Familiar faces Modus Operandi 
	and Voss on support duties.\nThis is going to be a special one!\n\nLineup:
	\n\nDarren Roach [https://nl.ra.co/dj/darrenroach]\nModus Operandi [https:
	//nl.ra.co/dj/modusoperandi]\nVoss [https://nl.ra.co/dj/voss]\n\nhttps://w
	ww.instagram.com/omnibus.collective/\n[https://www.instagram.com/omnibus.c
	ollective/]\n\n𝐈𝐍𝐅𝐎\n\nDate: 29th of May 2026\nTime: 20.00 - 03.00\nLocati
	on: Toekomstmuziek: Primo's\, Danzigerbocht 29\, Amsterdam\nEntrance: Tick
	ets\n[https://shop.weeztix.com/873e846e-15d0-44bd-8a61-b4331021952a/ticket
	s?shop_code=9jas323j&original_referer=https%3A%2F%2Fnl.ra.co%2F]
URL:https://offbeat.amsterdam/event/omnibus-x-toekomstmuziek
GEO:52.3966283;4.8755183
LOCATION:Toekomstmuziek - Danzigerbocht 29\, 1013 AM Amsterdam
STATUS:CONFIRMED
CATEGORIES:amsterdam-west,electronic,house,minervahaven,tech house,westpoor
	t
X-ALT-DESC;FMTTYPE=text/html:<p>Omnibus Collective is back at Primo's, the 
	upper room of Toekomstmuziek for a second round this year. This time bring
	ing UK House legend Darren Roach for an intimate club night. Familiar face
	s Modus Operandi and Voss on support duties. This is going to be a special
	 one!  </p><br><p>Lineup:</p><br><p><a href="https://nl.ra.co/dj/darrenroa
	ch">Darren Roach</a><br><br><a href="https://nl.ra.co/dj/modusoperandi">Mo
	dus Operandi</a><br><br><a href="https://nl.ra.co/dj/voss">Voss</a>  </p><
	br><p><a href="https://www.instagram.com/omnibus.collective/">https://www.
	instagram.com/omnibus.collective/</a>  </p><br><p>𝐈𝐍𝐅𝐎</p><br><p>Date: 29t
	h of May 2026<br><br>Time: 20.00 - 03.00<br><br>Location: Toekomstmuziek: 
	Primo's, Danzigerbocht 29, Amsterdam<br><br>Entrance: <a href="https://sho
	p.weeztix.com/873e846e-15d0-44bd-8a61-b4331021952a/tickets?shop_code=9jas3
	23j&amp;original_referer=https%3A%2F%2Fnl.ra.co%2F">Tickets</a></p>
BEGIN:VALARM
ACTION:DISPLAY
DESCRIPTION:Omnibus x Toekomstmuziek
TRIGGER:-PT1H
END:VALARM
END:VEVENT
END:VCALENDAR
