BEGIN:VCALENDAR
VERSION:2.0
CALSCALE:GREGORIAN
PRODID:adamgibbons/ics
METHOD:PUBLISH
X-PUBLISHED-TTL:PT1H
BEGIN:VEVENT
UID:20973@offbeat.amsterdam
SUMMARY:Noraly + False Perspective | the unfold tour
DTSTAMP:20260420T180827Z
DTSTART:20260715T180000Z
DESCRIPTION:UNTOLD/UNFOLD – songs and poetry rooted in storytelling\, with 
	echoes of folk and\njazz.\\\n\n‍\n\nTijdens deze tour delen Noraly en False 
	Perspective het podium. Verschillende\ngeluiden\, dezelfde visie: verhalen
	 zijn overal. Wat komt voort uit gesprekken\nmet jezelf\, met de mensen om
	 je heen\, met de wereld? En wat is nog niet verteld?\nIn CINETOL begint w
	at zich in het najaar verder zal ontvouwen.\n\n‍\n\n\nNORALY\n\n‍\nSchrijven b
	leek een noodzaak. Om zichzelf te ontrafelen\, de wereld te begrijpen\n(mi
	slukt..) en te ontdekken hoe deze twee zich tot elkaar verhouden. Ergens\n
	tussen de confrontatie en stilte\, besloot Noraly haar werk naar buiten te
	\nbrengen.\n\n‍\n\nDit jaar brengt ze haar tweede plaat uit. Eerlijkheid en 
	durf staan centraal\,\ngedragen door een rauwere sound\, bedoeld om dichte
	rbij te komen. En blijven.\nVerwacht geen zwaarte\, wel reflectie. En de u
	itnodiging om te dansen met alle\nkanten van het leven.\n\n‍\n\nDe untold/un
	fold tour speelt Noraly met Lucas (drums)\, Oliver (bass) en Thomas\n(gita
	ar).\n\n‍\n\nINSTAGRAM [https://www.instagram.com/noralypigmans] SPOTIFY\n[h
	ttps://open.spotify.com/artist/7c3iuRYJgg03LapgFZsLGH?si=2htxkiGiQFGNvaWQU
	4fnkQ]\n\n\n‍\n\n\nFALSE PERSPECTIVE\n\n‍\nFalse Perspective speelt eerlijk en
	 zonder omwegen. Intieme songs met lagen die\nzich langzaam prijsgeven.\n\
	n‍\n\nDe untold/unfold tour is verweven met de release van 3 EP's in 2026. L
	ive spelen\nzij in een akoestisch ensemble: Ugnė (zang)\, Liz (gitaar\, za
	ng)\, Hugo (klarinet\,\nsaxofoon) en Eline (viool\, zang).\n\n‍\n\nEen klein
	e bezetting die groot binnenkomt.\n\n‍\n\nINSTAGRAM [https://www.instagram.c
	om/falseperspectivemusic/] SPOTIFY\n[https://open.spotify.com/artist/0DudY
	fnSfP19MxrmGNimOy?si=aRL4VGRwQKedlmkxPGU7rQ]
URL:https://offbeat.amsterdam/event/noraly-false-perspective-or-the-unfold-
	tour
GEO:52.3528265;4.906568
LOCATION:Cinetol - Tolstraat 182\, 1074 VM Amsterdam
STATUS:CONFIRMED
CATEGORIES:amsterdam-zuid,de pijp,indie,live,poetry,storytelling
X-ALT-DESC;FMTTYPE=text/html:<p><em>UNTOLD/UNFOLD – songs and poetry rooted
	 in storytelling, with echoes of folk and jazz.\</em></p><p>‍</p><p>Tijdens 
	deze tour delen Noraly en False Perspective het podium. Verschillende gelu
	iden, dezelfde visie: verhalen zijn overal. Wat komt voort uit gesprekken 
	met jezelf, met de mensen om je heen, met de wereld? En wat is nog niet ve
	rteld? In CINETOL begint wat zich in het najaar verder zal ontvouwen.</p><
	p>‍</p><h2>Noraly</h2><p>‍<br>Schrijven bleek een noodzaak. Om zichzelf te ont
	rafelen, de wereld te begrijpen (mislukt..) en te ontdekken hoe deze twee 
	zich tot elkaar verhouden. Ergens tussen de confrontatie en stilte, besloo
	t Noraly haar werk naar buiten te brengen.</p><p>‍</p><p>Dit jaar brengt ze 
	haar tweede plaat uit. Eerlijkheid en durf staan centraal, gedragen door e
	en rauwere sound, bedoeld om dichterbij te komen. En blijven. Verwacht gee
	n zwaarte, wel reflectie. En de uitnodiging om te dansen met alle kanten v
	an het leven.</p><p>‍</p><p>De untold/unfold tour speelt Noraly met Lucas (d
	rums), Oliver (bass) en Thomas (gitaar).</p><p>‍</p><p><a href="https://www.
	instagram.com/noralypigmans">INSTAGRAM</a> <a href="https://open.spotify.c
	om/artist/7c3iuRYJgg03LapgFZsLGH?si=2htxkiGiQFGNvaWQU4fnkQ">SPOTIFY</a></p
	><h2>‍</h2><h2>False Perspective</h2><p>‍<br>False Perspective speelt eerlijk 
	en zonder omwegen. Intieme songs met lagen die zich langzaam prijsgeven.</
	p><p>‍</p><p>De untold/unfold tour is verweven met de release van 3 EP's in 
	2026. Live spelen zij in een akoestisch ensemble: Ugnė (zang), Liz (gitaar
	, zang), Hugo (klarinet, saxofoon) en Eline (viool, zang).</p><p>‍</p><p>Een
	 kleine bezetting die groot binnenkomt.</p><p>‍</p><p><a href="https://www.i
	nstagram.com/falseperspectivemusic/">INSTAGRAM</a> <a href="https://open.s
	potify.com/artist/0DudYfnSfP19MxrmGNimOy?si=aRL4VGRwQKedlmkxPGU7rQ">SPOTIF
	Y </a></p>
BEGIN:VALARM
ACTION:DISPLAY
DESCRIPTION:Noraly + False Perspective | the unfold tour
TRIGGER:-PT1H
END:VALARM
END:VEVENT
END:VCALENDAR
