BEGIN:VCALENDAR
VERSION:2.0
CALSCALE:GREGORIAN
PRODID:adamgibbons/ics
METHOD:PUBLISH
X-PUBLISHED-TTL:PT1H
BEGIN:VEVENT
UID:21050@offbeat.amsterdam
SUMMARY:Nobu
DTSTAMP:20260421T183241Z
DTSTART:20260926T173000Z
DESCRIPTION:Tender pop music by Dutch singer-songwriter\n\nNobu is a Dutch 
	rapper\, producer and singer-songwriter who uses his music as a\nmirror of
	 life. In his tracks\, he translates themes such as love\, loss\,\nself-re
	flection and growth into honest\, relatable stories taken straight from\nl
	ife. With EPs such as “Controle” and “Aurelia”\, which have racked up mill
	ions\nof streams\, Nobu has made a name for himself on the Dutch pop scene
	. Later this\nyear\, his new project “Highs & Lows” will be released: a pe
	rsonal and\nmulti-layered work in which extremes converge\, from euphoria 
	to doubt and from\nconnection to loss. He previously played a sold-out clu
	b tour\, was taken on as a\nsupport act by Kraantje Pappie\, and performed
	 at festivals such as Noorderslag\,\nZwarte Cross\, Appelpop and Dauwpop\,
	 underlining his strong live reputation.
URL:https://offbeat.amsterdam/event/nobu
GEO:52.36215535;4.883782439016489
LOCATION:Paradiso - Weteringschans 6\, 1017 SG Amsterdam
STATUS:CONFIRMED
CATEGORIES:amsterdam-centrum,festivals,leidseplein,live,music,stories
X-ALT-DESC;FMTTYPE=text/html:Tender pop music by Dutch singer-songwriter<br
	><br><p>Nobu is a Dutch rapper, producer and singer-songwriter who uses hi
	s music as a mirror of life. In his tracks, he translates themes such as l
	ove, loss, self-reflection and growth into honest, relatable stories taken
	 straight from life. With EPs such as “Controle” and “Aurelia”, which have
	 racked up millions of streams, Nobu has made a name for himself on the Du
	tch pop scene. Later this year, his new project “Highs &amp; Lows” will be
	 released: a personal and multi-layered work in which extremes converge, f
	rom euphoria to doubt and from connection to loss. He previously played a 
	sold-out club tour, was taken on as a support act by Kraantje Pappie, and 
	performed at festivals such as Noorderslag, Zwarte Cross, Appelpop and Dau
	wpop, underlining his strong live reputation.</p>
BEGIN:VALARM
ACTION:DISPLAY
DESCRIPTION:Nobu
TRIGGER:-PT1H
END:VALARM
END:VEVENT
END:VCALENDAR
