BEGIN:VCALENDAR
VERSION:2.0
CALSCALE:GREGORIAN
PRODID:adamgibbons/ics
METHOD:PUBLISH
X-PUBLISHED-TTL:PT1H
BEGIN:VEVENT
UID:21188@offbeat.amsterdam
SUMMARY:No Masters No Stage Jam
DTSTAMP:20260424T193653Z
DTSTART:20260605T140000Z
DESCRIPTION:no stage. no masters. \nthere’s a bar\nwe’ve got a keyboard\, u
	kelele and a slightly suspicious guitar.\n\nwe would love to see you there
	 :)\n\nbring an instrument or don’t.\nno skills required!\n\nsing\, hum\, 
	whisper\, make weird noises\nyour voice is the only instrument you can’t f
	orget at home
URL:https://offbeat.amsterdam/event/no-masters-no-stage-jam-6
GEO:52.3519638;4.8895188
LOCATION:Molli Chaoot - Van Ostadestraat 55hs\, 1072 SN Amsterdam
STATUS:CONFIRMED
CATEGORIES:amsterdam-zuid,bar/cafe,de pijp,music/concert
X-ALT-DESC;FMTTYPE=text/html:<p data-start="51" data-end="198">no stage. no
	 masters.&nbsp;<br data-start="93" data-end="96">there’s a bar<br data-sta
	rt="129" data-end="132">we’ve got a keyboard, ukelele and a slightly suspi
	cious guitar.</p><br><p data-start="51" data-end="198">we would love to se
	e you there :)</p><br><p data-start="200" data-end="286">bring an instrume
	nt or don’t.<br data-start="229" data-end="232">no skills required!</p><br
	><p data-start="288" data-is-only-node="" data-is-last-node="" data-end="3
	95">sing, hum, whisper, make weird noises<br data-start="333" data-end="33
	6">your voice is the only instrument you can’t forget at home</p>
BEGIN:VALARM
ACTION:DISPLAY
DESCRIPTION:No Masters No Stage Jam
TRIGGER:-PT1H
END:VALARM
END:VEVENT
END:VCALENDAR
