BEGIN:VCALENDAR
VERSION:2.0
CALSCALE:GREGORIAN
PRODID:adamgibbons/ics
METHOD:PUBLISH
X-PUBLISHED-TTL:PT1H
BEGIN:VEVENT
UID:20994@offbeat.amsterdam
SUMMARY:My Ugly Clementine
DTSTAMP:20260420T192652Z
DTSTART:20261003T173000Z
DESCRIPTION:Melodic post-punk combined with pop from Vienna\n\nRapidly sold
	-out shows\, a strong sense of connection both with their audience\nand wi
	thin the band\, and a playfulness defined by openness and space. The\nVien
	nese ‘My Ugly Clementine’ consists of friends from the local scene: Sophie
	\nLindinger\, Mira Lu Kovacs and Nastasja Ronck. Musically\, they move bet
	ween\ngrunge\, post-punk and pop\, driven by raw guitars and a sharp sense
	 of dynamics.\nTheir songs are both vulnerable and powerful at once. A par
	adox that resists\nbeing fully captured\, and therefore continues to reson
	ate. A band that can be\nintense without becoming distant\, effortlessly b
	alancing energy and softness.\nWith albums like ‘Vitamin C’ and the recent
	 ‘Apply Autonomy’\, they show how joy\,\nurgency and self-awareness come t
	ogether in a bold\, layered sound.
URL:https://offbeat.amsterdam/event/my-ugly-clementine
GEO:52.36215535;4.883782439016489
LOCATION:Paradiso - Weteringschans 6\, 1017 SG Amsterdam
STATUS:CONFIRMED
CATEGORIES:amsterdam-centrum,leidseplein,punk
X-ALT-DESC;FMTTYPE=text/html:Melodic post-punk combined with pop from Vienn
	a<br><br><p>Rapidly sold-out shows, a strong sense of connection both with
	 their audience and within the band, and a playfulness defined by openness
	 and space. The Viennese ‘My Ugly Clementine’ consists of friends from the
	 local scene: Sophie Lindinger, Mira Lu Kovacs and Nastasja Ronck. Musical
	ly, they move between grunge, post-punk and pop, driven by raw guitars and
	 a sharp sense of dynamics. Their songs are both vulnerable and powerful a
	t once. A paradox that resists being fully captured, and therefore continu
	es to resonate. A band that can be intense without becoming distant, effor
	tlessly balancing energy and softness. With albums like ‘Vitamin C’ and th
	e recent ‘Apply Autonomy’, they show how joy, urgency and self-awareness c
	ome together in a bold, layered sound.</p>
BEGIN:VALARM
ACTION:DISPLAY
DESCRIPTION:My Ugly Clementine
TRIGGER:-PT1H
END:VALARM
END:VEVENT
END:VCALENDAR
