BEGIN:VCALENDAR
VERSION:2.0
CALSCALE:GREGORIAN
PRODID:adamgibbons/ics
METHOD:PUBLISH
X-PUBLISHED-TTL:PT1H
BEGIN:VEVENT
UID:21103@offbeat.amsterdam
SUMMARY:Mullet Sessions: Irish Special 2.0
DTSTAMP:20260422T184344Z
DTSTART:20260530T170000Z
DTEND:20260530T200000Z
DESCRIPTION:After almost exactly one year\, the Irish Special is back. Mira
	nda Faul\, Papa\nBoyle\, and Eoghan Holland bring their Irish folk to Amst
	erdam.\n\nGET YOUR TICKETS: https://mullet-sessions-irish-special-2.eventb
	rite.nl\n[https://mullet-sessions-irish-special-2.eventbrite.nl]\n\nIf you
	 were here for last year’s Irish Special\, you know it was a beautiful\nev
	ening. This one brings three touring acts who flew all the way from Irelan
	d to\nbless your ears with gorgeous melodies and hypnotic guitar playing. 
	Come by if\nyou want a little getaway from the summer hubbub to just chill
	 out with some\ncold drinks and great music.\n\nTICKETS: €10 online / €15 
	at the door
URL:https://offbeat.amsterdam/event/mullet-sessions-irish-special-20
GEO:52.3504671;4.8912837
LOCATION:Parlour - Cornelis Troostplein 23\, 1072 JJ Amsterdam
STATUS:CONFIRMED
CATEGORIES:amsterdam-zuid,de pijp
X-ALT-DESC;FMTTYPE=text/html:<p>After almost exactly one year, the Irish Sp
	ecial is back. Miranda Faul, Papa Boyle, and Eoghan Holland bring their Ir
	ish folk to Amsterdam.</p><p><strong>GET YOUR TICKETS: </strong><a href="h
	ttps://mullet-sessions-irish-special-2.eventbrite.nl" target="_blank">http
	s://mullet-sessions-irish-special-2.eventbrite.nl</a></p><p>If you were he
	re for last year’s Irish Special, you know it was a beautiful evening. Thi
	s one brings three touring acts who flew all the way from Ireland to bless
	 your ears with gorgeous melodies and hypnotic guitar playing. Come by if 
	you want a little getaway from the summer hubbub to just chill out with so
	me cold drinks and great music.</p><p><strong>TICKETS:</strong> €10 online
	 / €15 at the door</p>
BEGIN:VALARM
ACTION:DISPLAY
DESCRIPTION:Mullet Sessions: Irish Special 2.0
TRIGGER:-PT1H
END:VALARM
END:VEVENT
END:VCALENDAR
