BEGIN:VCALENDAR
VERSION:2.0
CALSCALE:GREGORIAN
PRODID:adamgibbons/ics
METHOD:PUBLISH
X-PUBLISHED-TTL:PT1H
BEGIN:VEVENT
UID:21125@offbeat.amsterdam
SUMMARY:Mindscape
DTSTAMP:20260423T184528Z
DTSTART:20260626T210000Z
DTEND:20260627T040000Z
DESCRIPTION:Luna Ludmila\, nthng\, VNTM\, .VRIL\, Mystery Guest\n\nColorflo
	or\n23:00 – 06:00 (doors close at 04:00)\n\n18+
URL:https://offbeat.amsterdam/event/mindscape-3
GEO:52.3912546;4.8242219
LOCATION:Lofi - Basisweg 63\, 1043 AN Amsterdam
STATUS:CONFIRMED
CATEGORIES:amsterdam-west,sloterdijk
X-ALT-DESC;FMTTYPE=text/html:Luna Ludmila, nthng, VNTM, .VRIL, Mystery Gues
	t   <p>Colorfloor<br> 23:00 – 06:00 (doors close at 04:00)</p> <p>18+</p>
BEGIN:VALARM
ACTION:DISPLAY
DESCRIPTION:Mindscape
TRIGGER:-PT1H
END:VALARM
END:VEVENT
END:VCALENDAR
